BEGIN:VCALENDAR
VERSION:2.0
PRODID:-//Swiss Hockey - ECPv6.15.20//NONSGML v1.0//EN
CALSCALE:GREGORIAN
METHOD:PUBLISH
X-WR-CALNAME:Swiss Hockey
X-ORIGINAL-URL:https://swisshockey.org
X-WR-CALDESC:Events for Swiss Hockey
REFRESH-INTERVAL;VALUE=DURATION:PT1H
X-Robots-Tag:noindex
X-PUBLISHED-TTL:PT1H
BEGIN:VTIMEZONE
TZID:UTC
BEGIN:STANDARD
TZOFFSETFROM:+0000
TZOFFSETTO:+0000
TZNAME:UTC
DTSTART:20230101T000000
END:STANDARD
END:VTIMEZONE
BEGIN:VTIMEZONE
TZID:Europe/Berlin
BEGIN:DAYLIGHT
TZOFFSETFROM:+0100
TZOFFSETTO:+0200
TZNAME:CEST
DTSTART:20230326T010000
END:DAYLIGHT
BEGIN:STANDARD
TZOFFSETFROM:+0200
TZOFFSETTO:+0100
TZNAME:CET
DTSTART:20231029T010000
END:STANDARD
BEGIN:DAYLIGHT
TZOFFSETFROM:+0100
TZOFFSETTO:+0200
TZNAME:CEST
DTSTART:20240331T010000
END:DAYLIGHT
BEGIN:STANDARD
TZOFFSETFROM:+0200
TZOFFSETTO:+0100
TZNAME:CET
DTSTART:20241027T010000
END:STANDARD
BEGIN:DAYLIGHT
TZOFFSETFROM:+0100
TZOFFSETTO:+0200
TZNAME:CEST
DTSTART:20250330T010000
END:DAYLIGHT
BEGIN:STANDARD
TZOFFSETFROM:+0200
TZOFFSETTO:+0100
TZNAME:CET
DTSTART:20251026T010000
END:STANDARD
BEGIN:DAYLIGHT
TZOFFSETFROM:+0100
TZOFFSETTO:+0200
TZNAME:CEST
DTSTART:20260329T010000
END:DAYLIGHT
BEGIN:STANDARD
TZOFFSETFROM:+0200
TZOFFSETTO:+0100
TZNAME:CET
DTSTART:20261025T010000
END:STANDARD
END:VTIMEZONE
BEGIN:VTIMEZONE
TZID:Europe/Zurich
BEGIN:DAYLIGHT
TZOFFSETFROM:+0100
TZOFFSETTO:+0200
TZNAME:CEST
DTSTART:20240331T010000
END:DAYLIGHT
BEGIN:STANDARD
TZOFFSETFROM:+0200
TZOFFSETTO:+0100
TZNAME:CET
DTSTART:20241027T010000
END:STANDARD
BEGIN:DAYLIGHT
TZOFFSETFROM:+0100
TZOFFSETTO:+0200
TZNAME:CEST
DTSTART:20250330T010000
END:DAYLIGHT
BEGIN:STANDARD
TZOFFSETFROM:+0200
TZOFFSETTO:+0100
TZNAME:CET
DTSTART:20251026T010000
END:STANDARD
BEGIN:DAYLIGHT
TZOFFSETFROM:+0100
TZOFFSETTO:+0200
TZNAME:CEST
DTSTART:20260329T010000
END:DAYLIGHT
BEGIN:STANDARD
TZOFFSETFROM:+0200
TZOFFSETTO:+0100
TZNAME:CET
DTSTART:20261025T010000
END:STANDARD
END:VTIMEZONE
BEGIN:VEVENT
DTSTART;VALUE=DATE:20240820
DTEND;VALUE=DATE:20240826
DTSTAMP:20260421T071306
CREATED:20240723T075646Z
LAST-MODIFIED:20240801T121135Z
UID:1730-1724112000-1724630399@swisshockey.org
SUMMARY:International Friendly Matches of the Women's National Team against Poland
DESCRIPTION:TeamBOHRER Anne\, DAMEGGER Juliane\, FAZIS Ursina\, HARDEMAN Anya\, HÄRTSCH Dunja\, HESELHAUS Adrienne\, HESELHAUS Charline\, HOXHAJ Diana\, KADL Henriette\, PAULISCH Luisa\, PEYRON Amelia\, PÖHLER Nele\, SILVER Hermione\, STOMPS Sofie\, STUDER Hanna\, TRIEBOLD Raffaela\, TRÖSCH Elena\, WEBER Stéphanie\, ZBINDEN Sara\, ZEPF Sarah \nStaff\nVAN ASSELT Constance\, Team Manager\nSCHAEBEN Mathias\, Head Coach\nHAUSSENER Linda\, Assistant Coach\nSTANDAERT Rosalie Physiotherapist\nBOSMANS Wouter\, Video Technician
URL:https://swisshockey.org/en/event/international-friendly-matches-of-the-womens-national-team-against-poland/
ATTACH;FMTTYPE=image/png:https://swisshockey.org/wp-content/uploads/2024/07/Flyer_SUI-POL.png
END:VEVENT
BEGIN:VEVENT
DTSTART;VALUE=DATE:20240822
DTEND;VALUE=DATE:20240826
DTSTAMP:20260421T071306
CREATED:20240819T063817Z
LAST-MODIFIED:20240819T064449Z
UID:1845-1724284800-1724630399@swisshockey.org
SUMMARY:EuroHockey Championship Qualifier B Women 2024
DESCRIPTION:TeamAppel\, Paulina | Bohrer\, Anne | Fazis\, Ursina TW | Hardeman\, Anya | Härtsch\, Dunja | Heselhaus\, Adrienne | Hoxhaj\, Diana | Müller\, Ria | Paulisch\, Luisa | Pöhler\, Nele | Silver\, Hermione | Stomps\, Sofie | Triebold\, Raffaela | Trösch\, Elena | Von Overbeck\, Dorine TW | Weber\, Stéphanie  | Zbinden\, Sara | Zepf\, Sarah \nStaffSchaeben\, Mathias | Head Coach\nVan Asselt\, Constance | Team Managerin\nHaussener\, Linda | Assistant Coach\nBosmans\, Wouter | Video Assistant\nMauerhofer\, Martina | Physiotherapist \nInfos\nOfficial WebsiteZur Website \nSchedule / ResultsZur Webseite \nOpponents Switzerland
URL:https://swisshockey.org/en/event/eurohockey-championship-qualifier-b-women-2024/
LOCATION:Douai Frankreich\, Rue de Ferin\, Lambres-Lez-Douai\, 59500\, France
CATEGORIES:Championship
ATTACH;FMTTYPE=image/jpeg:https://swisshockey.org/wp-content/uploads/2024/08/Eurohockey-Championship-Qualifier.jpg
END:VEVENT
BEGIN:VEVENT
DTSTART;VALUE=DATE:20241214
DTEND;VALUE=DATE:20241216
DTSTAMP:20260421T071306
CREATED:20241204T134738Z
LAST-MODIFIED:20241205T093614Z
UID:2487-1734134400-1734307199@swisshockey.org
SUMMARY:14.-15.12.24: Final4 Indoor Men
DESCRIPTION:On Saturday\, December 14th\, 2024\, and Sunday\, December 15th\, 2024\, the Men’s Final4 Indoor Championship will take place. The semifinals will be held on Saturday at the Zürcher Utogrund hall\, alongside a match day for the U15 Elite. The finals day will take place on Sunday at the Utenberg hall in Lucerne\, where the U18 Girls’ final will also be played. \nSaturday\, December 14 – Zürcher Utogrund Hall (10 CHF ticket price\, available at the entrance)\n13:00 Semi Final 1 Men\n14:30 Semi Final 2 Men \nSunday\, December 15 – Utenberg Hall\, Lucerne (15 CHF ticket price\, limited availability – ask your club)\n13:00 Bronze Medal Game Men\n15:30 Final Men
URL:https://swisshockey.org/en/event/final4-indoor-men/
CATEGORIES:Championship,Final4,Indoor
ATTACH;FMTTYPE=image/png:https://swisshockey.org/wp-content/uploads/2024/12/Scherm­afbeelding-2024-12-04-om-14.19.49.png
END:VEVENT
BEGIN:VEVENT
DTSTART;VALUE=DATE:20241227
DTEND;VALUE=DATE:20241230
DTSTAMP:20260421T071306
CREATED:20241204T134319Z
LAST-MODIFIED:20241222T193617Z
UID:2479-1735257600-1735516799@swisshockey.org
SUMMARY:27.-29.12.24: Testgames U21: Switzerland vs Italy (boys & girls) in Lucerne
DESCRIPTION:On December 27th\, 28th\, and 29th\, 2024\, our U21 teams (Boys & Girls) will play test matches against Italy. They are using this test series as preparation for their U21 Indoor European Championships in January 2025. The games will take place in the Utenberghalle in Lucerne. \nDecember 27\, 2024\n19:00 SUI U21 Boys vs ITA U21 Boys\n20:30 SUI U21 Girls vs ITA U21 Girls \nDecember 28\, 2024\n14:15 SUI U21 Boys vs ITA U21 Boys\n15:30 SUI U21 Girls vs ITA U21 Girls \nDecember 29\, 2024\n09:00 SUI U21 Boys vs ITA U21 Boys\n10:30 SUI U21 Girls vs ITA U21 Girls \nCome by and cheer for our teams! Admission is free.
URL:https://swisshockey.org/en/event/testgames-u21-switzerland-vs-italy-boys-girls/
CATEGORIES:Indoor,International Test Match
ATTACH;FMTTYPE=image/jpeg:https://swisshockey.org/wp-content/uploads/2024/12/Klein.jpg
ORGANIZER;CN="Swiss Hockey":MAILTO:info@swisshockey.org
END:VEVENT
BEGIN:VEVENT
DTSTART;VALUE=DATE:20250110
DTEND;VALUE=DATE:20250113
DTSTAMP:20260421T071306
CREATED:20241205T173322Z
LAST-MODIFIED:20241205T173322Z
UID:2553-1736467200-1736726399@swisshockey.org
SUMMARY:10.-12.01.25: EuroHockey Indoor U21 Championship Women 2025
DESCRIPTION:From Friday\, January 10th\, to Sunday\, January 12th\, our U21 women’s team will compete in the Indoor A European Championship. In Wałcz (POL)\, they will battle at the highest European level for the title\, facing Austria\, Poland\, Croatia\, Turkey\, and Italy. Two years ago\, they finished 5th at the home European Championship in Lucerne\, but this time the girls are determined to reach at least the semi-finals! \nThe match schedule can be found here: Match Schedule Indoor U21 Championship Women Walcz 2025 \nLive streaming: All matches will be streamed live on EuroHockeyTV.org.
URL:https://swisshockey.org/en/event/10-12-01-25-eurohockey-indoor-u21-championship-women-2025/
CATEGORIES:Championship,Euro U21,Indoor
ATTACH;FMTTYPE=image/jpeg:https://swisshockey.org/wp-content/uploads/2024/12/WP52301132451.jpg
END:VEVENT
BEGIN:VEVENT
DTSTART;VALUE=DATE:20250117
DTEND;VALUE=DATE:20250120
DTSTAMP:20260421T071306
CREATED:20241204T165230Z
LAST-MODIFIED:20250102T122843Z
UID:2527-1737072000-1737331199@swisshockey.org
SUMMARY:17.-19.01.25: EuroHockey Indoor U21 Championship Men 2025
DESCRIPTION:Experience the best of European indoor hockey – perfect for the whole family or a fun outing with friends. Our U21 Boys will face Denmark\, Italy\, and Poland in the group stage. They are excited to put on a fantastic tournament in front of their home crowd. \nCome by and cheer for our U21 team! \n  \nFind the match schedule here: Match Schedule Indoor U21 Championship Men Geneva 2025 \n  \n⚠️ FREE entry for all spectators! \n  \n📅 Important Information\nDates: January 17–19\, 2025\nVenue: Stade de Bout-du-Monde\, Geneva \n  \nParticipating Teams:\n🇨🇭 Switzerland | 🇩🇰 Denmark | 🇮🇹 Italy | 🇵🇱 Poland\n🇭🇷 Croatia | 🇨🇿 Czech Republic | 🇹🇷 Turkey | 🇦🇹 Austria \nLive Streaming: All matches will be broadcast live on EuroHockeyTV.org. \n  \n👥 Become a Volunteer!\nWould you like to be part of this extraordinary event and help with the organization? We are looking for motivated volunteers.\n👉 Contact us via email: aghga@aghga.ch \n  \n📍 Practical Information\nAddress: Stade de Bout-du-Monde\, Route de Vessy 12\, 1206 Geneva\nAccess: Easily reachable by public transport (Bus 7 and 11\, stop: Bout du Monde) and parking available nearby.\nEntry: Free for everyone!\nCatering: Enjoy food and drinks on-site. \n  \nJoin us to celebrate European indoor hockey at the highest level!
URL:https://swisshockey.org/en/event/17-19-01-25-eurohockey-indoor-u21-championship-men-2025/
LOCATION:Stade de Bout-du-Monde\, Route de Vessy 12\, Genf\, 1206\, Switzerland
CATEGORIES:Euro U21,Indoor
ATTACH;FMTTYPE=image/jpeg:https://swisshockey.org/wp-content/uploads/2024/12/WP92301196233-scaled-e1736268647717.jpg
END:VEVENT
BEGIN:VEVENT
DTSTART;VALUE=DATE:20250125
DTEND;VALUE=DATE:20250127
DTSTAMP:20260421T071306
CREATED:20250102T141653Z
LAST-MODIFIED:20250102T141653Z
UID:2624-1737763200-1737935999@swisshockey.org
SUMMARY:25.-26.01.2025: Final4 Indoor Women
DESCRIPTION:Final4 Weekend: The Battle for the Swiss Indoor Hockey Title 2024-2025! \nOn Saturday\, January 25\, and Sunday\, January 26\, the spectacular Final4 Weekend for the NLA Women will take place. The four best teams of the season will compete for the Swiss indoor title. \n\nSaturday: NLA Women’s Semi-Finals\nSunday: Bronze Match and the Grand Final for the Championship Title\n\nBut that’s not all! On the same weekend\, the final rounds of the U18 Elite (Saturday) and the U15 Girls (Sunday) will also be held. \nNB: The match schedule will be announced once the participating teams are finalized after the last match day on January 18\, 2025\, in Lucerne. \n📍 Practical Information \nAddress: Stade de Bout-du-Monde\, Route de Vessy 12\, 1206 Geneva\nDirections: Easily accessible by public transportation (Bus 7 and 11\, stop: “Bout du Monde”) and with parking available nearby. \nJoin us for a weekend full of thrilling hockey matches and exciting sporting highlights!
URL:https://swisshockey.org/en/event/25-26-01-2025-final4-indoor-women/
LOCATION:Stade de Bout-du-Monde\, Route de Vessy 12\, Genf\, 1206\, Switzerland
CATEGORIES:Final4,Indoor
ATTACH;FMTTYPE=image/jpeg:https://swisshockey.org/wp-content/uploads/2025/01/final4-scaled.jpg
END:VEVENT
BEGIN:VEVENT
DTSTART;VALUE=DATE:20250221
DTEND;VALUE=DATE:20250224
DTSTAMP:20260421T071306
CREATED:20250102T143940Z
LAST-MODIFIED:20250102T145332Z
UID:2638-1740096000-1740355199@swisshockey.org
SUMMARY:21.-23.02.2025: Indoor EuroCup I for Clubs in Wettingen
DESCRIPTION:Indoor EuroCup I for Clubs in Wettingen\nFrom Friday\, February 21\, to Sunday\, February 23\, the Indoor EuroCup I for clubs will be held in Wettingen. At the highest level of indoor hockey in Europe\, the men of Rotweiss Wettingen will compete for the European title. All matches will be broadcast live on eurohockeytv.org (via a paid subscription). \nCome and enjoy the best of European indoor hockey while supporting the men of Rotweiss Wettingen! You can find the group allocations here: \n\n\n\nPool A\nPool B\n\n\nMannheimer HC (GER)\nMMHC Voordaan (NED)\n\n\nSanse Complutense (ESP)\nHAHK Mladost (CRO)\n\n\nGaziantep Polisgücü SK (TUR)\nRoyal Leopold Club (BEL)\n\n\nHC OKS-SHVSM Vinnitsa (UKR)\nHC Rotweiss Wettingen (SUI)
URL:https://swisshockey.org/en/event/21-23-02-2025-indoor-eurocup-i-for-clubs-in-wettingen/
LOCATION:Tägi Wettingen\, Tägerhardstrasse 122\, Wettingen\, Aargau\, 5430\, Switzerland
CATEGORIES:EC Club,Indoor
ATTACH;FMTTYPE=image/jpeg:https://swisshockey.org/wp-content/uploads/2025/01/0C0A7070-scaled.jpeg
END:VEVENT
BEGIN:VEVENT
DTSTART;VALUE=DATE:20250228
DTEND;VALUE=DATE:20250302
DTSTAMP:20260421T071306
CREATED:20250217T135428Z
LAST-MODIFIED:20250217T135428Z
UID:3064-1740700800-1740873599@swisshockey.org
SUMMARY:28.2-1.3: Ladies kick-off weekend in Lucerne
DESCRIPTION:The Swiss women’s hockey team is taking the first step towards the B European Championships this summer with the kick-off weekend in Lucerne. From February 28 to March 1\, the selected players will get the chance to prove themselves under the guidance of new national coach Jorge Nolte. This intensive training weekend marks the start of a challenging and promising road to the European Championships.
URL:https://swisshockey.org/en/event/28-2-1-3-ladies-kick-off-weekend-in-lucerne/
LOCATION:Kunstrasen Utenberg\, Utenbergstrasse 1\, Luzern\, 6006\, Switzerland
CATEGORIES:Euro Women
ATTACH;FMTTYPE=image/jpeg:https://swisshockey.org/wp-content/uploads/2025/02/dunja-small-size-scaled-e1739800192921.jpeg
ORGANIZER;CN="Swiss Hockey":MAILTO:info@swisshockey.org
END:VEVENT
BEGIN:VEVENT
DTSTART;VALUE=DATE:20250308
DTEND;VALUE=DATE:20250310
DTSTAMP:20260421T071306
CREATED:20250217T143532Z
LAST-MODIFIED:20250306T140423Z
UID:3056-1741392000-1741564799@swisshockey.org
SUMMARY:8.-9.03.2025: U16/U18 Boys & Girls Kick-Off Weekend in Luzern
DESCRIPTION:Exciting times for our youth Swiss National Teams as their Kickoff weekend is fast approaching. The teams will come together for a full weekend of training\, to start the preparation towards Easter and Pentecost tournaments. \nBoys – Wettingen \nGirls – Lucerne
URL:https://swisshockey.org/en/event/8-3-9-3-u16-u18-boys-and-girls-kick-off-weekend/
CATEGORIES:Outdoor
ATTACH;FMTTYPE=image/jpeg:https://swisshockey.org/wp-content/uploads/2025/02/2024_27129-scaled-e1739801714183.jpeg
END:VEVENT
BEGIN:VEVENT
DTSTART;VALUE=DATE:20250417
DTEND;VALUE=DATE:20250423
DTSTAMP:20260421T071306
CREATED:20250228T084417Z
LAST-MODIFIED:20250306T140214Z
UID:3285-1744848000-1745366399@swisshockey.org
SUMMARY:17.-21.04.2025: U16/U18 Tournament Boys and Girls in The Hague (NL)
DESCRIPTION:Our Swiss Youth national teams for U16/U18 boys and girls have their eyes set on competing at an international tournament at easter in The Hague\, Netherlands. This is a very exciting opportunity for our teams to face some very strong competition from other countries. Our teams will have their kickoff weekends in the coming weeks to start their preparation for this tournament. We wish them all the best as they get ready to play for their country.
URL:https://swisshockey.org/en/event/u16-u18-boys-and-girls-international-tournament-easter/
CATEGORIES:Outdoor
ATTACH;FMTTYPE=image/png:https://swisshockey.org/wp-content/uploads/2024/07/U16-Boys-2-e1740732139730.png
END:VEVENT
BEGIN:VEVENT
DTSTART;VALUE=DATE:20250419
DTEND;VALUE=DATE:20250421
DTSTAMP:20260421T071306
CREATED:20250221T173631Z
LAST-MODIFIED:20250306T140310Z
UID:3131-1745020800-1745193599@swisshockey.org
SUMMARY:19.-20.04.2025: U14 Regio Cup in Wettingen
DESCRIPTION:On Easter Weekend all Swiss U14 Regio teams will meet in Wettingen for an exciting\, action packed weekend of hockey. This is a great tournament for our youth to gain exposure to playing tournament style hockey with a main focus on development and experience. We look forward to seeing what each region will bring to the competition. \n 
URL:https://swisshockey.org/en/event/u14-regio-cup-wettingen/
CATEGORIES:Outdoor
ATTACH;FMTTYPE=image/jpeg:https://swisshockey.org/wp-content/uploads/2025/02/Bildschirmfoto-2024-07-03-um-17.48.23-scaled.jpg
END:VEVENT
BEGIN:VEVENT
DTSTART;VALUE=DATE:20250426
DTEND;VALUE=DATE:20250427
DTSTAMP:20260421T071306
CREATED:20250411T113938Z
LAST-MODIFIED:20250411T115525Z
UID:3979-1745625600-1745711999@swisshockey.org
SUMMARY:26.04.2025: General Assembly
DESCRIPTION:The 125th Swiss Hockey General Assembly will take place on the 24th April this year in Lausanne. Registrations for participation close on the 17th April. 
URL:https://swisshockey.org/en/event/26-04-2025-general-assembly/
LOCATION:Lausanne\, Allée du Bornan\, Vidy Lausanne\, 1007\, Switzerland
CATEGORIES:Federation
ATTACH;FMTTYPE=image/jpeg:https://swisshockey.org/wp-content/uploads/2025/04/National-Swiss-Ladies-Team-scaled-e1743576293344.jpeg
END:VEVENT
BEGIN:VEVENT
DTSTART;VALUE=DATE:20250524
DTEND;VALUE=DATE:20250526
DTSTAMP:20260421T071306
CREATED:20250422T092836Z
LAST-MODIFIED:20250424T120910Z
UID:4042-1748044800-1748217599@swisshockey.org
SUMMARY:24.-25.05.2025: U18 Final 4 Wettingen
DESCRIPTION:The U18 Final 4 for boys and girls will be held on the weekend 24-25th May. The hosts for this final 4 is RWW. We wish all teams and players the best of luck for the finals.
URL:https://swisshockey.org/en/event/24-25-06-2025-u18-final-4-wettingen/
CATEGORIES:Final4,Outdoor
ATTACH;FMTTYPE=image/jpeg:https://swisshockey.org/wp-content/uploads/2025/04/awa_landRWWturk-5-scaled.jpeg
END:VEVENT
BEGIN:VEVENT
DTSTART;VALUE=DATE:20250606
DTEND;VALUE=DATE:20250610
DTSTAMP:20260421T071306
CREATED:20250311T121430Z
LAST-MODIFIED:20250526T083633Z
UID:3496-1749168000-1749513599@swisshockey.org
SUMMARY:06.-09.06.2025: Pentecost Tournaments
DESCRIPTION:Swiss Hockey has a very busy and exciting schedule lined up for Pentecost weekend\, with all the youth Swiss teams and the woman’s national team all competing in tournaments or involved with a training camp.  \n\n\n\n\n\n\n\n\nPreparation Tournament\nPentecost\nU14 Boys Central\nFrankfurt\n\n\nPreparation Tournament\nPentecost\nU14 Boys West\nParis\n\n\nPreparation Tournament\nPentecost\nU14 Boys East\nCologne\n\n\nPreparation Tournament (cancelled)\nPentecost\nU16 Boys\nLucerne\n\n\nPreparation Tournament\nPentecost\nU18 Boys\nPoland\n\n\nPreparation Tournament\nPentecost\nU14 Girls East\nCologne\n\n\nPreparation Tournament\nPentecost\nU14 Girls West\nLyon\n\n\nPreparation Tournament (cancelled)\nPentecost\nU16 Girls\nLucerne\n\n\nPreparation Tournament\nPentecost\nU18 Girls\nCalais\n\n\nTraining Camp Women\nPentecost\nWomen\nNetherlands
URL:https://swisshockey.org/en/event/06-09-06-2025-pentecost-tournaments/
CATEGORIES:Outdoor
ATTACH;FMTTYPE=image/png:https://swisshockey.org/wp-content/uploads/2024/07/U16_Boys-e1741695161412.png
END:VEVENT
BEGIN:VEVENT
DTSTART;VALUE=DATE:20250614
DTEND;VALUE=DATE:20250616
DTSTAMP:20260421T071306
CREATED:20250424T122902Z
LAST-MODIFIED:20250424T122948Z
UID:4114-1749859200-1750031999@swisshockey.org
SUMMARY:14.-15.06.2025: U15 M/F\, U15 Girls Final 4 Geneva
DESCRIPTION:The U15 Mixed M/F and the U15 girls Final 4 will be both hosted this year by SHC in Geneva. We look forward to the club putting on a great event. We wish all the teams and players the best of luck.
URL:https://swisshockey.org/en/event/14-15-06-2025-u15-m-f-u15-girls-final-4-geneva/
CATEGORIES:Final4,Outdoor
ATTACH;FMTTYPE=image/jpeg:https://swisshockey.org/wp-content/uploads/2025/04/ZT7A8462-scaled-e1745497683917.jpg
END:VEVENT
BEGIN:VEVENT
DTSTART;VALUE=DATE:20250621
DTEND;VALUE=DATE:20250623
DTSTAMP:20260421T071306
CREATED:20250424T123849Z
LAST-MODIFIED:20250424T123931Z
UID:4127-1750464000-1750636799@swisshockey.org
SUMMARY:21.-22.06.2025: NLA Men and Woman Final 4
DESCRIPTION:The NLA master and Woman’s Final 4 competition will be hosted by LSC in Lucerne. The Semi finals will be on Saturday 21st June with the Final and Bronze medal games on Sunday 22nd June. The teams are still to be confirmed with a tight contest for the final places currently going on for both the men’s and woman’s teams. We wish every the best of luck heading into the finals.
URL:https://swisshockey.org/en/event/21-22-06-2025-nla-men-and-woman-final-4/
CATEGORIES:Final4,Outdoor
ATTACH;FMTTYPE=image/jpeg:https://swisshockey.org/wp-content/uploads/2025/02/DK4I8438-scaled-e1740134515492.jpeg
END:VEVENT
BEGIN:VEVENT
DTSTART;VALUE=DATE:20250628
DTEND;VALUE=DATE:20250630
DTSTAMP:20260421T071306
CREATED:20250619T065436Z
LAST-MODIFIED:20250619T065436Z
UID:4652-1751068800-1751241599@swisshockey.org
SUMMARY:Training weekend Men
DESCRIPTION:
URL:https://swisshockey.org/en/event/training-weekend-men/
LOCATION:Olten\, Sportstrasse 81c\, Olten\, Solothurn\, 4600\, Switzerland
CATEGORIES:Training weekend
ATTACH;FMTTYPE=image/jpeg:https://swisshockey.org/wp-content/uploads/2025/06/Trainingsweekend-Men.jpg
END:VEVENT
BEGIN:VEVENT
DTSTART;VALUE=DATE:20250628
DTEND;VALUE=DATE:20250630
DTSTAMP:20260421T071306
CREATED:20250521T123332Z
LAST-MODIFIED:20250521T123332Z
UID:4382-1751068800-1751241599@swisshockey.org
SUMMARY:28.-29.06.2025: U14 Selection Weekend
DESCRIPTION:The U14 selection weekend will take place on the weekend of the 28th\,29th of June. Selections will take place in three regions. \nGeneva will host the U14 Boys and Girls West. \nLuzern will host the U14 Boys Central and East \nOlten will host U14 Girls East \nWe wish all the players the best for these weekends\, we hope they can learn and develop knowledge and skills from the sessions.
URL:https://swisshockey.org/en/event/28-29-06-2025-u14-selection-weekend/
CATEGORIES:Outdoor
ATTACH;FMTTYPE=image/jpeg:https://swisshockey.org/wp-content/uploads/2025/04/ZT7A9707-scaled-e1747830704408.jpg
END:VEVENT
BEGIN:VEVENT
DTSTART;VALUE=DATE:20250628
DTEND;VALUE=DATE:20250630
DTSTAMP:20260421T071306
CREATED:20250619T064617Z
LAST-MODIFIED:20250619T064617Z
UID:4634-1751068800-1751241599@swisshockey.org
SUMMARY:Training weekend U18 Girls
DESCRIPTION:
URL:https://swisshockey.org/en/event/training-weekend-u18-girls/
LOCATION:Geneva\, Switzerland
CATEGORIES:Training weekend
ATTACH;FMTTYPE=image/jpeg:https://swisshockey.org/wp-content/uploads/2025/06/U18-Testspiel.jpg
END:VEVENT
BEGIN:VEVENT
DTSTART;VALUE=DATE:20250628
DTEND;VALUE=DATE:20250630
DTSTAMP:20260421T071306
CREATED:20250619T092727Z
LAST-MODIFIED:20250619T092727Z
UID:4825-1751068800-1751241599@swisshockey.org
SUMMARY:Training weekend U18 Boys
DESCRIPTION:
URL:https://swisshockey.org/en/event/training-weekend-u18-boys-2/
LOCATION:Tägi Wettingen\, Tägerhardstrasse 122\, Wettingen\, Aargau\, 5430\, Switzerland
CATEGORIES:Outdoor,Training weekend
ATTACH;FMTTYPE=image/jpeg:https://swisshockey.org/wp-content/uploads/2025/06/Trainingsweekend-U18-Boys.jpg
END:VEVENT
BEGIN:VEVENT
DTSTART;VALUE=DATE:20250704
DTEND;VALUE=DATE:20250707
DTSTAMP:20260421T071306
CREATED:20250619T065038Z
LAST-MODIFIED:20250619T065038Z
UID:4643-1751587200-1751846399@swisshockey.org
SUMMARY:Testseries Men: ITA vs SUI
DESCRIPTION:
URL:https://swisshockey.org/en/event/testseries-men-ita-vs-sui/
LOCATION:Bra\, Italy
CATEGORIES:Test series
ATTACH;FMTTYPE=image/jpeg:https://swisshockey.org/wp-content/uploads/2025/06/men-ITA-SUI.jpg
END:VEVENT
BEGIN:VEVENT
DTSTART;VALUE=DATE:20250704
DTEND;VALUE=DATE:20250707
DTSTAMP:20260421T071306
CREATED:20250619T065637Z
LAST-MODIFIED:20250619T065637Z
UID:4660-1751587200-1751846399@swisshockey.org
SUMMARY:Women's training weekend
DESCRIPTION:
URL:https://swisshockey.org/en/event/womens-training-weekend/
LOCATION:Kunstrasen Utenberg\, Utenbergstrasse 1\, Luzern\, 6006\, Switzerland
CATEGORIES:Training weekend
ATTACH;FMTTYPE=image/jpeg:https://swisshockey.org/wp-content/uploads/2025/06/Trainingsweekend-Women.jpg
END:VEVENT
BEGIN:VEVENT
DTSTART;VALUE=DATE:20250705
DTEND;VALUE=DATE:20250707
DTSTAMP:20260421T071306
CREATED:20250619T091425Z
LAST-MODIFIED:20250619T091425Z
UID:4802-1751673600-1751846399@swisshockey.org
SUMMARY:Training weekend U18 Girls
DESCRIPTION:
URL:https://swisshockey.org/en/event/training-weekend-u18-girls-2/
LOCATION:Stade de Bout-du-Monde\, Route de Vessy 12\, Genf\, 1206\, Switzerland
CATEGORIES:Outdoor,Training weekend
ATTACH;FMTTYPE=image/jpeg:https://swisshockey.org/wp-content/uploads/2025/06/Trainingsweekend-U18-Girls-Lausanne.jpg
END:VEVENT
BEGIN:VEVENT
DTSTART;VALUE=DATE:20250705
DTEND;VALUE=DATE:20250707
DTSTAMP:20260421T071306
CREATED:20250619T092300Z
LAST-MODIFIED:20250619T095259Z
UID:4818-1751673600-1751846399@swisshockey.org
SUMMARY:Training weekend U18 Boys & U21 Men
DESCRIPTION:
URL:https://swisshockey.org/en/event/training-weekend-u18-boys/
LOCATION:Tägi Wettingen\, Tägerhardstrasse 122\, Wettingen\, Aargau\, 5430\, Switzerland
CATEGORIES:Outdoor,Training weekend
ATTACH;FMTTYPE=image/jpeg:https://swisshockey.org/wp-content/uploads/2025/06/Trainingsweekend-U18-Boys.jpg
END:VEVENT
BEGIN:VEVENT
DTSTART;VALUE=DATE:20250711
DTEND;VALUE=DATE:20250714
DTSTAMP:20260421T071306
CREATED:20250619T070415Z
LAST-MODIFIED:20250619T070415Z
UID:4667-1752192000-1752451199@swisshockey.org
SUMMARY:Testseries Men: SUI vs AUT
DESCRIPTION:
URL:https://swisshockey.org/en/event/testseries-men-sui-vs-aut/
LOCATION:Olten\, Sportstrasse 81c\, Olten\, Solothurn\, 4600\, Switzerland
CATEGORIES:Test series
ATTACH;FMTTYPE=image/jpeg:https://swisshockey.org/wp-content/uploads/2025/06/Testserie-AUT-SUI.jpg
END:VEVENT
BEGIN:VEVENT
DTSTART;VALUE=DATE:20250711
DTEND;VALUE=DATE:20250714
DTSTAMP:20260421T071306
CREATED:20250619T071025Z
LAST-MODIFIED:20250619T071114Z
UID:4674-1752192000-1752451199@swisshockey.org
SUMMARY:Women's training weekend
DESCRIPTION:
URL:https://swisshockey.org/en/event/womens-training-weekend-2/
LOCATION:Olten\, Sportstrasse 81c\, Olten\, Solothurn\, 4600\, Switzerland
CATEGORIES:Training weekend
ATTACH;FMTTYPE=image/jpeg:https://swisshockey.org/wp-content/uploads/2025/06/Trainingsweekend-Women-Olten.jpg
END:VEVENT
BEGIN:VEVENT
DTSTART;VALUE=DATE:20250711
DTEND;VALUE=DATE:20250714
DTSTAMP:20260421T071306
CREATED:20250619T094515Z
LAST-MODIFIED:20250619T095358Z
UID:4838-1752192000-1752451199@swisshockey.org
SUMMARY:Training weekend U21 Men
DESCRIPTION:
URL:https://swisshockey.org/en/event/training-weekend-u21-men/
LOCATION:Olten\, Sportstrasse 81c\, Olten\, Solothurn\, 4600\, Switzerland
CATEGORIES:Outdoor,Training weekend
ATTACH;FMTTYPE=image/jpeg:https://swisshockey.org/wp-content/uploads/2025/06/Trainingsweekend-U21.jpg
END:VEVENT
BEGIN:VEVENT
DTSTART;VALUE=DATE:20250713
DTEND;VALUE=DATE:20250720
DTSTAMP:20260421T071306
CREATED:20250619T091225Z
LAST-MODIFIED:20250619T091225Z
UID:4795-1752364800-1752969599@swisshockey.org
SUMMARY:EuroHockey Championship II U18 Girls
DESCRIPTION:
URL:https://swisshockey.org/en/event/eurohockey-championship-ii-u18-girls/
LOCATION:Alanya\, Turkey
CATEGORIES:Championship
ATTACH;FMTTYPE=image/jpeg:https://swisshockey.org/wp-content/uploads/2025/06/Championship-U18-Girls-Alanya.jpg
END:VEVENT
BEGIN:VEVENT
DTSTART;VALUE=DATE:20250713
DTEND;VALUE=DATE:20250720
DTSTAMP:20260421T071306
CREATED:20250619T091922Z
LAST-MODIFIED:20250619T091922Z
UID:4810-1752364800-1752969599@swisshockey.org
SUMMARY:EuroHockey Championship II U18 Boys
DESCRIPTION:
URL:https://swisshockey.org/en/event/eurohockey-championship-ii-u18-boys/
LOCATION:Alanya\, Turkey
CATEGORIES:Championship
ATTACH;FMTTYPE=image/jpeg:https://swisshockey.org/wp-content/uploads/2025/06/Championship-U18-Boys-Alanya.jpg
END:VEVENT
END:VCALENDAR