BEGIN:VCALENDAR
VERSION:2.0
PRODID:-//Swiss Hockey - ECPv6.15.20//NONSGML v1.0//EN
CALSCALE:GREGORIAN
METHOD:PUBLISH
X-ORIGINAL-URL:https://swisshockey.org
X-WR-CALDESC:Events for Swiss Hockey
REFRESH-INTERVAL;VALUE=DURATION:PT1H
X-Robots-Tag:noindex
X-PUBLISHED-TTL:PT1H
BEGIN:VTIMEZONE
TZID:Europe/Zurich
BEGIN:DAYLIGHT
TZOFFSETFROM:+0100
TZOFFSETTO:+0200
TZNAME:CEST
DTSTART:20250330T010000
END:DAYLIGHT
BEGIN:STANDARD
TZOFFSETFROM:+0200
TZOFFSETTO:+0100
TZNAME:CET
DTSTART:20251026T010000
END:STANDARD
BEGIN:DAYLIGHT
TZOFFSETFROM:+0100
TZOFFSETTO:+0200
TZNAME:CEST
DTSTART:20260329T010000
END:DAYLIGHT
BEGIN:STANDARD
TZOFFSETFROM:+0200
TZOFFSETTO:+0100
TZNAME:CET
DTSTART:20261025T010000
END:STANDARD
BEGIN:DAYLIGHT
TZOFFSETFROM:+0100
TZOFFSETTO:+0200
TZNAME:CEST
DTSTART:20270328T010000
END:DAYLIGHT
BEGIN:STANDARD
TZOFFSETFROM:+0200
TZOFFSETTO:+0100
TZNAME:CET
DTSTART:20271031T010000
END:STANDARD
END:VTIMEZONE
BEGIN:VEVENT
DTSTART;VALUE=DATE:20260606
DTEND;VALUE=DATE:20260608
DTSTAMP:20260420T040618
CREATED:20260310T143710Z
LAST-MODIFIED:20260310T143710Z
UID:7323-1780704000-1780876799@swisshockey.org
SUMMARY:Final4 NLA
DESCRIPTION:
URL:https://swisshockey.org/en/event/final4-nla/
CATEGORIES:Final4,Outdoor
ATTACH;FMTTYPE=image/jpeg:https://swisshockey.org/wp-content/uploads/2026/03/Event-NLA.jpg
END:VEVENT
BEGIN:VEVENT
DTSTART;VALUE=DATE:20260613
DTEND;VALUE=DATE:20260615
DTSTAMP:20260420T040618
CREATED:20260310T143839Z
LAST-MODIFIED:20260310T143839Z
UID:7328-1781308800-1781481599@swisshockey.org
SUMMARY:Final4 U18
DESCRIPTION:
URL:https://swisshockey.org/en/event/final4-u18/
CATEGORIES:Final4,Outdoor
ATTACH;FMTTYPE=image/jpeg:https://swisshockey.org/wp-content/uploads/2026/03/Event-U18-Teams.jpg
END:VEVENT
BEGIN:VEVENT
DTSTART;VALUE=DATE:20260620
DTEND;VALUE=DATE:20260622
DTSTAMP:20260420T040618
CREATED:20260310T144011Z
LAST-MODIFIED:20260310T144011Z
UID:7336-1781913600-1782086399@swisshockey.org
SUMMARY:Sighting U14 Regio
DESCRIPTION:
URL:https://swisshockey.org/en/event/sighting-u14-regio/
CATEGORIES:Outdoor
ATTACH;FMTTYPE=image/jpeg:https://swisshockey.org/wp-content/uploads/2026/03/Event-U14-Teams.jpg
END:VEVENT
BEGIN:VEVENT
DTSTART;VALUE=DATE:20260701
DTEND;VALUE=DATE:20260705
DTSTAMP:20260420T040618
CREATED:20260310T144152Z
LAST-MODIFIED:20260310T144152Z
UID:7344-1782864000-1783209599@swisshockey.org
SUMMARY:EuroHockey 5s U16 Championship Boys
DESCRIPTION:
URL:https://swisshockey.org/en/event/eurohockey-5s-u16-championship-boys/
LOCATION:Alanya\, Turkey
CATEGORIES:Championship,Outdoor
ATTACH;FMTTYPE=image/jpeg:https://swisshockey.org/wp-content/uploads/2026/03/Event-U16-Bosy.jpg
END:VEVENT
BEGIN:VEVENT
DTSTART;VALUE=DATE:20260701
DTEND;VALUE=DATE:20260705
DTSTAMP:20260420T040618
CREATED:20260310T144350Z
LAST-MODIFIED:20260310T144350Z
UID:7352-1782864000-1783209599@swisshockey.org
SUMMARY:EuroHockey 5s U16 Championship Girls
DESCRIPTION:
URL:https://swisshockey.org/en/event/eurohockey-5s-u16-championship-girls/
LOCATION:Alanya\, Turkey
CATEGORIES:Championship,Outdoor
ATTACH;FMTTYPE=image/jpeg:https://swisshockey.org/wp-content/uploads/2026/03/Event-U16-Girls.jpg
END:VEVENT
BEGIN:VEVENT
DTSTART;VALUE=DATE:20260702
DTEND;VALUE=DATE:20260706
DTSTAMP:20260420T040618
CREATED:20260310T144506Z
LAST-MODIFIED:20260310T144506Z
UID:7360-1782950400-1783295999@swisshockey.org
SUMMARY:Alps Cup
DESCRIPTION:
URL:https://swisshockey.org/en/event/alps-cup/
LOCATION:Prague\, Prag\, Czech Republic
CATEGORIES:Outdoor
ATTACH;FMTTYPE=image/jpeg:https://swisshockey.org/wp-content/uploads/2026/03/Event-Women-Men.jpg
END:VEVENT
BEGIN:VEVENT
DTSTART;VALUE=DATE:20260709
DTEND;VALUE=DATE:20260713
DTSTAMP:20260420T040618
CREATED:20260310T144658Z
LAST-MODIFIED:20260310T144658Z
UID:7368-1783555200-1783900799@swisshockey.org
SUMMARY:EuroHockey Qualifier Men
DESCRIPTION:
URL:https://swisshockey.org/en/event/eurohockey-qualifier-men/
LOCATION:Rome\, Rome\, Italy
CATEGORIES:Outdoor
ATTACH;FMTTYPE=image/jpeg:https://swisshockey.org/wp-content/uploads/2026/03/Event-Men.jpg
END:VEVENT
BEGIN:VEVENT
DTSTART;VALUE=DATE:20260709
DTEND;VALUE=DATE:20260713
DTSTAMP:20260420T040618
CREATED:20260310T151204Z
LAST-MODIFIED:20260310T151204Z
UID:7376-1783555200-1783900799@swisshockey.org
SUMMARY:EuroHockey Qualifier Women
DESCRIPTION:
URL:https://swisshockey.org/en/event/eurohockey-qualifier-women/
LOCATION:Prague\, Prag\, Czech Republic
CATEGORIES:Outdoor
ATTACH;FMTTYPE=image/jpeg:https://swisshockey.org/wp-content/uploads/2026/03/Event-Women.jpg
END:VEVENT
BEGIN:VEVENT
DTSTART;VALUE=DATE:20260716
DTEND;VALUE=DATE:20260720
DTSTAMP:20260420T040618
CREATED:20260310T151352Z
LAST-MODIFIED:20260310T151352Z
UID:7384-1784160000-1784505599@swisshockey.org
SUMMARY:Testseries: FRA vs SUI U21 Women
DESCRIPTION:
URL:https://swisshockey.org/en/event/testseries-fra-vs-sui-u21-women/
LOCATION:Lyon\, France
CATEGORIES:Outdoor,Test series
ATTACH;FMTTYPE=image/jpeg:https://swisshockey.org/wp-content/uploads/2026/03/Event-U21-Women.jpg
END:VEVENT
BEGIN:VEVENT
DTSTART;VALUE=DATE:20260716
DTEND;VALUE=DATE:20260720
DTSTAMP:20260420T040618
CREATED:20260310T151654Z
LAST-MODIFIED:20260310T151654Z
UID:7392-1784160000-1784505599@swisshockey.org
SUMMARY:Testseries: SUI vs ? U21 Men
DESCRIPTION:
URL:https://swisshockey.org/en/event/testseries-sui-vs-u21-men/
LOCATION:Kunstrasen Utenberg\, Utenbergstrasse 1\, Luzern\, 6006\, Switzerland
CATEGORIES:Outdoor,Test series
ATTACH;FMTTYPE=image/jpeg:https://swisshockey.org/wp-content/uploads/2026/03/Event-U21-Men.jpg
END:VEVENT
BEGIN:VEVENT
DTSTART;VALUE=DATE:20260727
DTEND;VALUE=DATE:20260802
DTSTAMP:20260420T040618
CREATED:20260310T151853Z
LAST-MODIFIED:20260310T151853Z
UID:7401-1785110400-1785628799@swisshockey.org
SUMMARY:EuroHockey U21 Championship II-B Women
DESCRIPTION:
URL:https://swisshockey.org/en/event/eurohockey-u21-championship-ii-b-women/
LOCATION:Vienna\, Wien\, Austria
CATEGORIES:Championship,Outdoor
ATTACH;FMTTYPE=image/jpeg:https://swisshockey.org/wp-content/uploads/2026/03/Event-U21-Women.jpg
END:VEVENT
BEGIN:VEVENT
DTSTART;VALUE=DATE:20260727
DTEND;VALUE=DATE:20260802
DTSTAMP:20260420T040618
CREATED:20260310T152200Z
LAST-MODIFIED:20260310T152200Z
UID:7417-1785110400-1785628799@swisshockey.org
SUMMARY:EuroHockey U21 Championship Men
DESCRIPTION:
URL:https://swisshockey.org/en/event/eurohockey-u21-championship-men/
LOCATION:Valencia\, Valencia\, Spain
CATEGORIES:Championship,Outdoor
ATTACH;FMTTYPE=image/jpeg:https://swisshockey.org/wp-content/uploads/2026/03/Event-U21-Men.jpg
END:VEVENT
END:VCALENDAR