BEGIN:VCALENDAR
VERSION:2.0
PRODID:-//Swiss Hockey - ECPv6.15.20//NONSGML v1.0//EN
CALSCALE:GREGORIAN
METHOD:PUBLISH
X-WR-CALNAME:Swiss Hockey
X-ORIGINAL-URL:https://swisshockey.org
X-WR-CALDESC:Veranstaltungen für Swiss Hockey
REFRESH-INTERVAL;VALUE=DURATION:PT1H
X-Robots-Tag:noindex
X-PUBLISHED-TTL:PT1H
BEGIN:VTIMEZONE
TZID:UTC
BEGIN:STANDARD
TZOFFSETFROM:+0000
TZOFFSETTO:+0000
TZNAME:UTC
DTSTART:20230101T000000
END:STANDARD
END:VTIMEZONE
BEGIN:VEVENT
DTSTART;VALUE=DATE:20240201
DTEND;VALUE=DATE:20240205
DTSTAMP:20260423T102526
CREATED:20240122T082129Z
LAST-MODIFIED:20241204T093234Z
UID:860-1706745600-1707091199@swisshockey.org
SUMMARY:Europameisterschaft der Herren 2024
DESCRIPTION:Pressetext downloadTeamInfosOffizielle WebsiteZur Website \nSpielplan / ErgebnisseZum Spielplan \nTickets kaufenZu den Tickets \nLive-CoverageZum Livestream\nEvent Pass 9\,99 € \nPool A Gegner der Schweiz
URL:https://swisshockey.org/event/hallenhockey-europameisterschaft-der-herren-2024/
LOCATION:Belgien\, Sportoase Leuven Philipssite 6\, Leuven\, Belgien
CATEGORIES:Halle
ATTACH;FMTTYPE=image/jpeg:https://swisshockey.org/wp-content/uploads/2024/01/Hallen-EM-Herren-2024-Belgien.jpg
END:VEVENT
END:VCALENDAR