BEGIN:VCALENDAR
VERSION:2.0
PRODID:-//Swiss Hockey - ECPv6.15.20//NONSGML v1.0//EN
CALSCALE:GREGORIAN
METHOD:PUBLISH
X-ORIGINAL-URL:https://swisshockey.org
X-WR-CALDESC:Veranstaltungen für Swiss Hockey
REFRESH-INTERVAL;VALUE=DURATION:PT1H
X-Robots-Tag:noindex
X-PUBLISHED-TTL:PT1H
BEGIN:VTIMEZONE
TZID:UTC
BEGIN:STANDARD
TZOFFSETFROM:+0000
TZOFFSETTO:+0000
TZNAME:UTC
DTSTART:20230101T000000
END:STANDARD
END:VTIMEZONE
BEGIN:VEVENT
DTSTART;VALUE=DATE:20240208
DTEND;VALUE=DATE:20240211
DTSTAMP:20260421T035248
CREATED:20240122T072031Z
LAST-MODIFIED:20241204T093256Z
UID:846-1707350400-1707609599@swisshockey.org
SUMMARY:Europameisterschaft der Damen 2024
DESCRIPTION:Pressetext downloadTeamInfosOffizielle WebsiteZur Website \nSpielplan & TurnierZum Spielplan\nZum Turnier \nTickets kaufenZu den Tickets \nLive-CoverageZum Livestream\nEvent Pass 9\,99 € \nPool B Gegner der Schweiz
URL:https://swisshockey.org/event/damen-hallen-em-berlin/
LOCATION:Deutschland\, Horst-Körber-Sportzentrums Glockenturmstraße 3-5\, Berlin\, 14053\, Deutschland
CATEGORIES:Halle
ATTACH;FMTTYPE=image/jpeg:https://swisshockey.org/wp-content/uploads/2024/01/Hallen-EM-Damen-2024-Berlin.jpg
END:VEVENT
BEGIN:VEVENT
DTSTART;VALUE=DATE:20240608
DTEND;VALUE=DATE:20240610
DTSTAMP:20260421T035248
CREATED:20240607T113036Z
LAST-MODIFIED:20240702T043259Z
UID:1519-1717804800-1717977599@swisshockey.org
SUMMARY:Final 4 in Olten - Schweizer Meisterschaft der Damen und Herren
DESCRIPTION:InfosOffizielle WebsiteZur Website \nSpielplan & TurnierZum Spielplan Damen\nZum Spielplan Herren
URL:https://swisshockey.org/event/final4-2024/
LOCATION:Olten\, Sportstrasse 81c\, Olten\, Solothurn\, 4600\, Switzerland
CATEGORIES:Final4
ATTACH;FMTTYPE=image/webp:https://swisshockey.org/wp-content/uploads/2024/06/310e99_08ba0a5e19b546beae6ae4e45810ac5amv2.jpg-1.webp
END:VEVENT
END:VCALENDAR