BEGIN:VCALENDAR
VERSION:2.0
PRODID:-//Swiss Hockey - ECPv6.15.20//NONSGML v1.0//EN
CALSCALE:GREGORIAN
METHOD:PUBLISH
X-ORIGINAL-URL:https://swisshockey.org
X-WR-CALDESC:Veranstaltungen für Swiss Hockey
REFRESH-INTERVAL;VALUE=DURATION:PT1H
X-Robots-Tag:noindex
X-PUBLISHED-TTL:PT1H
BEGIN:VTIMEZONE
TZID:Europe/Zurich
BEGIN:DAYLIGHT
TZOFFSETFROM:+0100
TZOFFSETTO:+0200
TZNAME:CEST
DTSTART:20250330T010000
END:DAYLIGHT
BEGIN:STANDARD
TZOFFSETFROM:+0200
TZOFFSETTO:+0100
TZNAME:CET
DTSTART:20251026T010000
END:STANDARD
BEGIN:DAYLIGHT
TZOFFSETFROM:+0100
TZOFFSETTO:+0200
TZNAME:CEST
DTSTART:20260329T010000
END:DAYLIGHT
BEGIN:STANDARD
TZOFFSETFROM:+0200
TZOFFSETTO:+0100
TZNAME:CET
DTSTART:20261025T010000
END:STANDARD
BEGIN:DAYLIGHT
TZOFFSETFROM:+0100
TZOFFSETTO:+0200
TZNAME:CEST
DTSTART:20270328T010000
END:DAYLIGHT
BEGIN:STANDARD
TZOFFSETFROM:+0200
TZOFFSETTO:+0100
TZNAME:CET
DTSTART:20271031T010000
END:STANDARD
END:VTIMEZONE
BEGIN:VEVENT
DTSTART;VALUE=DATE:20260124
DTEND;VALUE=DATE:20260126
DTSTAMP:20260422T005651
CREATED:20260122T114351Z
LAST-MODIFIED:20260126T074638Z
UID:6471-1769212800-1769385599@swisshockey.org
SUMMARY:Final 4 Men/Women
DESCRIPTION:Platzierungen WomenPlatzierungen MenPlatzierungen BoysErgebnisse WomenErgebnisse MenWatch Final 4 liveDownload Programm Flyer
URL:https://swisshockey.org/event/final-4-men-women/
LOCATION:Tägi Wettingen\, Tägerhardstrasse 122\, Wettingen\, Aargau\, 5430\, Switzerland
CATEGORIES:Final4,Halle
ATTACH;FMTTYPE=image/jpeg:https://swisshockey.org/wp-content/uploads/2026/01/final-4-2026.jpg
END:VEVENT
END:VCALENDAR