BEGIN:VCALENDAR
VERSION:2.0
PRODID:-//Swiss Hockey - ECPv6.15.20//NONSGML v1.0//EN
CALSCALE:GREGORIAN
METHOD:PUBLISH
X-ORIGINAL-URL:https://swisshockey.org
X-WR-CALDESC:Veranstaltungen für Swiss Hockey
REFRESH-INTERVAL;VALUE=DURATION:PT1H
X-Robots-Tag:noindex
X-PUBLISHED-TTL:PT1H
BEGIN:VTIMEZONE
TZID:Europe/Zurich
BEGIN:DAYLIGHT
TZOFFSETFROM:+0100
TZOFFSETTO:+0200
TZNAME:CEST
DTSTART:20240331T010000
END:DAYLIGHT
BEGIN:STANDARD
TZOFFSETFROM:+0200
TZOFFSETTO:+0100
TZNAME:CET
DTSTART:20241027T010000
END:STANDARD
BEGIN:DAYLIGHT
TZOFFSETFROM:+0100
TZOFFSETTO:+0200
TZNAME:CEST
DTSTART:20250330T010000
END:DAYLIGHT
BEGIN:STANDARD
TZOFFSETFROM:+0200
TZOFFSETTO:+0100
TZNAME:CET
DTSTART:20251026T010000
END:STANDARD
BEGIN:DAYLIGHT
TZOFFSETFROM:+0100
TZOFFSETTO:+0200
TZNAME:CEST
DTSTART:20260329T010000
END:DAYLIGHT
BEGIN:STANDARD
TZOFFSETFROM:+0200
TZOFFSETTO:+0100
TZNAME:CET
DTSTART:20261025T010000
END:STANDARD
BEGIN:DAYLIGHT
TZOFFSETFROM:+0100
TZOFFSETTO:+0200
TZNAME:CEST
DTSTART:20270328T010000
END:DAYLIGHT
BEGIN:STANDARD
TZOFFSETFROM:+0200
TZOFFSETTO:+0100
TZNAME:CET
DTSTART:20271031T010000
END:STANDARD
END:VTIMEZONE
BEGIN:VEVENT
DTSTART;VALUE=DATE:20260402
DTEND;VALUE=DATE:20260407
DTSTAMP:20260422T133230
CREATED:20260310T125318Z
LAST-MODIFIED:20260310T125419Z
UID:7261-1775088000-1775519999@swisshockey.org
SUMMARY:8 Nations Tournament U16 Boys
DESCRIPTION:
URL:https://swisshockey.org/event/8-nations-tournament-u16-boys/
LOCATION:Valkenswaard\, Valkenswaard\, Netherlands
CATEGORIES:Feld
ATTACH;FMTTYPE=image/jpeg:https://swisshockey.org/wp-content/uploads/2026/03/Event-U16-Bosy.jpg
END:VEVENT
BEGIN:VEVENT
DTSTART;VALUE=DATE:20260402
DTEND;VALUE=DATE:20260407
DTSTAMP:20260422T133230
CREATED:20260310T125055Z
LAST-MODIFIED:20260310T125208Z
UID:7245-1775088000-1775519999@swisshockey.org
SUMMARY:6 Nations Tournament U18 Boys
DESCRIPTION:
URL:https://swisshockey.org/event/6-nations-tournament-u18-boys/
LOCATION:Wavre\, Wavre\, Belgium
CATEGORIES:Feld
ATTACH;FMTTYPE=image/jpeg:https://swisshockey.org/wp-content/uploads/2026/03/Event-U18-Bosy.jpg
END:VEVENT
BEGIN:VEVENT
DTSTART;VALUE=DATE:20260402
DTEND;VALUE=DATE:20260407
DTSTAMP:20260422T133230
CREATED:20260310T124805Z
LAST-MODIFIED:20260310T124939Z
UID:7213-1775088000-1775519999@swisshockey.org
SUMMARY:6 Nations Tournament U18 Girls
DESCRIPTION:
URL:https://swisshockey.org/event/6-nations-tournament-u18-girls/
LOCATION:Ludwigshafen\, Ludwigshafen\, Germany
CATEGORIES:Feld
ATTACH;FMTTYPE=image/png:https://swisshockey.org/wp-content/uploads/2026/03/Event-U18-Girls.png
END:VEVENT
BEGIN:VEVENT
DTSTART;VALUE=DATE:20260314
DTEND;VALUE=DATE:20260316
DTSTAMP:20260422T133230
CREATED:20260312T090920Z
LAST-MODIFIED:20260312T091756Z
UID:7424-1773446400-1773619199@swisshockey.org
SUMMARY:Seniorenhallenmeisterschaft Utenberg-Halle
DESCRIPTION:
URL:https://swisshockey.org/event/seniorenhallenmeisterschaft-utenberg-halle/
LOCATION:Luzern\, Utenbergstrasse 1\, Luzern\, 6006\, Switzerland
CATEGORIES:Halle
ATTACH;FMTTYPE=image/jpeg:https://swisshockey.org/wp-content/uploads/2026/03/senioren-luzern-2026.jpg
END:VEVENT
BEGIN:VEVENT
DTSTART;VALUE=DATE:20260302
DTEND;VALUE=DATE:20260309
DTSTAMP:20260422T133230
CREATED:20260122T071715Z
LAST-MODIFIED:20260129T101353Z
UID:6454-1772409600-1773014399@swisshockey.org
SUMMARY:FIH World Cup Qualifier
DESCRIPTION:
URL:https://swisshockey.org/event/fih-world-cup-qualifier/
LOCATION:Santiago\, Santiago\, Chile
CATEGORIES:Feld
ATTACH;FMTTYPE=image/jpeg:https://swisshockey.org/wp-content/uploads/2026/01/FIH-World-Cup-Qualifier.jpg
END:VEVENT
BEGIN:VEVENT
DTSTART;VALUE=DATE:20260301
DTEND;VALUE=DATE:20260302
DTSTAMP:20260422T133230
CREATED:20260129T104108Z
LAST-MODIFIED:20260129T104108Z
UID:6575-1772323200-1772409599@swisshockey.org
SUMMARY:Modul Feld Wettingen
DESCRIPTION:
URL:https://swisshockey.org/event/modul-feld-wettingen/
LOCATION:Tägi Wettingen\, Tägerhardstrasse 122\, Wettingen\, Aargau\, 5430\, Switzerland
CATEGORIES:Feld
END:VEVENT
BEGIN:VEVENT
DTSTART;VALUE=DATE:20260213
DTEND;VALUE=DATE:20260216
DTSTAMP:20260422T133230
CREATED:20260122T071056Z
LAST-MODIFIED:20260127T114051Z
UID:6437-1770940800-1771199999@swisshockey.org
SUMMARY:Trainingscamp Women
DESCRIPTION:
URL:https://swisshockey.org/event/trainingscamp-women-2/
LOCATION:Schweiz\, Switzerland
CATEGORIES:Feld,Trainingscamp
ATTACH;FMTTYPE=image/jpeg:https://swisshockey.org/wp-content/uploads/2026/01/WhatsApp-Image-2024-08-23-at-21.50.49.jpeg
END:VEVENT
BEGIN:VEVENT
DTSTART;VALUE=DATE:20260129
DTEND;VALUE=DATE:20260201
DTSTAMP:20260422T133230
CREATED:20260122T070049Z
LAST-MODIFIED:20260127T113857Z
UID:6418-1769644800-1769903999@swisshockey.org
SUMMARY:Testgames Rotterdam & Marocco
DESCRIPTION:
URL:https://swisshockey.org/event/testgames-rotterdam-marocco/
LOCATION:Rotterdam\, Rotterdam\, Netherlands
CATEGORIES:Feld,Internationale Testspiele
ATTACH;FMTTYPE=image/jpeg:https://swisshockey.org/wp-content/uploads/2026/01/CED_7770-scaled.jpg
END:VEVENT
BEGIN:VEVENT
DTSTART;VALUE=DATE:20260124
DTEND;VALUE=DATE:20260126
DTSTAMP:20260422T133230
CREATED:20260122T114351Z
LAST-MODIFIED:20260126T074638Z
UID:6471-1769212800-1769385599@swisshockey.org
SUMMARY:Final 4 Men/Women
DESCRIPTION:Platzierungen WomenPlatzierungen MenPlatzierungen BoysErgebnisse WomenErgebnisse MenWatch Final 4 liveDownload Programm Flyer
URL:https://swisshockey.org/event/final-4-men-women/
LOCATION:Tägi Wettingen\, Tägerhardstrasse 122\, Wettingen\, Aargau\, 5430\, Switzerland
CATEGORIES:Final4,Halle
ATTACH;FMTTYPE=image/jpeg:https://swisshockey.org/wp-content/uploads/2026/01/final-4-2026.jpg
END:VEVENT
BEGIN:VEVENT
DTSTART;VALUE=DATE:20260112
DTEND;VALUE=DATE:20260119
DTSTAMP:20260422T133230
CREATED:20251111T145437Z
LAST-MODIFIED:20251111T145437Z
UID:6111-1768176000-1768780799@swisshockey.org
SUMMARY:EC-I Indoor Women
DESCRIPTION:
URL:https://swisshockey.org/event/ec-i-indoor-women/
LOCATION:Prag\, Prag\, Czech Republic
CATEGORIES:Halle
ATTACH;FMTTYPE=image/jpeg:https://swisshockey.org/wp-content/uploads/2025/11/EC-1_Women.jpg
END:VEVENT
BEGIN:VEVENT
DTSTART;VALUE=DATE:20260105
DTEND;VALUE=DATE:20260112
DTSTAMP:20260422T133230
CREATED:20251111T144803Z
LAST-MODIFIED:20251111T145508Z
UID:6094-1767571200-1768175999@swisshockey.org
SUMMARY:EC-I Indoor Men
DESCRIPTION:
URL:https://swisshockey.org/event/ec-i-indoor-men/
LOCATION:Heidelberg\, Heidelberg\, Germany
CATEGORIES:Halle
ATTACH;FMTTYPE=image/jpeg:https://swisshockey.org/wp-content/uploads/2025/11/EC-1_Men.jpg
END:VEVENT
BEGIN:VEVENT
DTSTART;VALUE=DATE:20260102
DTEND;VALUE=DATE:20260105
DTSTAMP:20260422T133230
CREATED:20251111T144115Z
LAST-MODIFIED:20251111T144115Z
UID:6079-1767312000-1767571199@swisshockey.org
SUMMARY:Rohrmax Cup Women
DESCRIPTION:
URL:https://swisshockey.org/event/rohrmax-cup-women/
LOCATION:Wien\, Wien\, Austria
CATEGORIES:Halle
ATTACH;FMTTYPE=image/jpeg:https://swisshockey.org/wp-content/uploads/2025/11/Rohrmax_Women.jpg
END:VEVENT
BEGIN:VEVENT
DTSTART;VALUE=DATE:20260102
DTEND;VALUE=DATE:20260105
DTSTAMP:20260422T133230
CREATED:20251111T143330Z
LAST-MODIFIED:20251111T143530Z
UID:6063-1767312000-1767571199@swisshockey.org
SUMMARY:Rohrmax Cup Men
DESCRIPTION:
URL:https://swisshockey.org/event/rohrmax-cup-men/
LOCATION:Wien\, Wien\, Austria
CATEGORIES:Halle
ATTACH;FMTTYPE=image/jpeg:https://swisshockey.org/wp-content/uploads/2025/11/rohrmax_men.jpg
END:VEVENT
BEGIN:VEVENT
DTSTART;VALUE=DATE:20251227
DTEND;VALUE=DATE:20251231
DTSTAMP:20260422T133230
CREATED:20251111T141415Z
LAST-MODIFIED:20251111T141415Z
UID:6045-1766793600-1767139199@swisshockey.org
SUMMARY:Indoor Tournament Spain
DESCRIPTION:
URL:https://swisshockey.org/event/indoor-tournament-spain/
LOCATION:Ourense\, Ourense\, Spain
CATEGORIES:Halle
ATTACH;FMTTYPE=image/jpeg:https://swisshockey.org/wp-content/uploads/2025/11/Men_Indoor_2.jpg
END:VEVENT
BEGIN:VEVENT
DTSTART;VALUE=DATE:20251227
DTEND;VALUE=DATE:20251230
DTSTAMP:20260422T133230
CREATED:20251111T142503Z
LAST-MODIFIED:20251111T142503Z
UID:6054-1766793600-1767052799@swisshockey.org
SUMMARY:Lehrgang Indoor
DESCRIPTION:
URL:https://swisshockey.org/event/lehrgang-indoor/
LOCATION:Luzern\, Utenbergstrasse 1\, Luzern\, 6006\, Switzerland
CATEGORIES:Halle
ATTACH;FMTTYPE=image/jpeg:https://swisshockey.org/wp-content/uploads/2025/11/Women_Indoor.jpg
END:VEVENT
BEGIN:VEVENT
DTSTART;VALUE=DATE:20251129
DTEND;VALUE=DATE:20251211
DTSTAMP:20260422T133230
CREATED:20250903T180905Z
LAST-MODIFIED:20250903T180905Z
UID:5425-1764374400-1765411199@swisshockey.org
SUMMARY:FIH Junior World Cup U21
DESCRIPTION:
URL:https://swisshockey.org/event/fih-junior-world-cup-u21/
LOCATION:Chennai\, Gandhi Irwin Rd\, Chennai\, Tamil Nadu\, 600008\, India
CATEGORIES:Feld,World Cup
ATTACH;FMTTYPE=image/jpeg:https://swisshockey.org/wp-content/uploads/2025/09/FIH_Junior_World_Cup.jpg
END:VEVENT
BEGIN:VEVENT
DTSTART;VALUE=DATE:20251121
DTEND;VALUE=DATE:20251124
DTSTAMP:20260422T133230
CREATED:20251111T140730Z
LAST-MODIFIED:20251111T140730Z
UID:6022-1763683200-1763942399@swisshockey.org
SUMMARY:Messmer Cup
DESCRIPTION:
URL:https://swisshockey.org/event/messmer-cup/
LOCATION:Luzern\, Utenbergstrasse 1\, Luzern\, 6006\, Switzerland
CATEGORIES:Halle
ATTACH;FMTTYPE=image/jpeg:https://swisshockey.org/wp-content/uploads/2025/11/Men_Indoor.jpg
END:VEVENT
BEGIN:VEVENT
DTSTART;VALUE=DATE:20251121
DTEND;VALUE=DATE:20251124
DTSTAMP:20260422T133230
CREATED:20250903T175001Z
LAST-MODIFIED:20250903T175616Z
UID:5409-1763683200-1763942399@swisshockey.org
SUMMARY:Lehrgang U21 Men
DESCRIPTION:
URL:https://swisshockey.org/event/lehrgang-u21-men/
LOCATION:Luzern\, Utenbergstrasse 1\, Luzern\, 6006\, Switzerland
CATEGORIES:Feld,Lehrgang
ATTACH;FMTTYPE=image/jpeg:https://swisshockey.org/wp-content/uploads/2025/09/U21-Lehrgang.jpg
END:VEVENT
BEGIN:VEVENT
DTSTART;VALUE=DATE:20251110
DTEND;VALUE=DATE:20251115
DTSTAMP:20260422T133230
CREATED:20250903T174630Z
LAST-MODIFIED:20250903T174630Z
UID:5400-1762732800-1763164799@swisshockey.org
SUMMARY:Trainingsweek U21 Men
DESCRIPTION:
URL:https://swisshockey.org/event/trainingsweek-u21-men/
LOCATION:Niederlande\, Netherlands
CATEGORIES:Feld,Trainingsweekend
ATTACH;FMTTYPE=image/jpeg:https://swisshockey.org/wp-content/uploads/2025/09/U21-Trainingsweek-Niederlande.jpg
END:VEVENT
BEGIN:VEVENT
DTSTART;VALUE=DATE:20251030
DTEND;VALUE=DATE:20251103
DTSTAMP:20260422T133230
CREATED:20250903T174246Z
LAST-MODIFIED:20250903T174246Z
UID:5385-1761782400-1762127999@swisshockey.org
SUMMARY:Testseries U21 Men
DESCRIPTION:
URL:https://swisshockey.org/event/testseries-u21-men/
LOCATION:Luzern\, Utenbergstrasse 1\, Luzern\, 6006\, Switzerland
CATEGORIES:Feld,Testserie
ATTACH;FMTTYPE=image/jpeg:https://swisshockey.org/wp-content/uploads/2025/09/U21-Testseries-Spain.jpg
END:VEVENT
BEGIN:VEVENT
DTSTART;VALUE=DATE:20251017
DTEND;VALUE=DATE:20251019
DTSTAMP:20260422T133230
CREATED:20250903T173242Z
LAST-MODIFIED:20250904T093244Z
UID:5375-1760659200-1760831999@swisshockey.org
SUMMARY:Trainingscamp Women
DESCRIPTION:
URL:https://swisshockey.org/event/trainingscamp-women/
CATEGORIES:Feld,Trainingscamp
ATTACH;FMTTYPE=image/jpeg:https://swisshockey.org/wp-content/uploads/2025/09/Trainingscamp_Women.jpg
END:VEVENT
BEGIN:VEVENT
DTSTART;VALUE=DATE:20250921
DTEND;VALUE=DATE:20250927
DTSTAMP:20260422T133230
CREATED:20250903T172407Z
LAST-MODIFIED:20250903T172407Z
UID:5358-1758412800-1758931199@swisshockey.org
SUMMARY:3T U16 Boys & Girls
DESCRIPTION:
URL:https://swisshockey.org/event/3t-u16-boys-girls/
LOCATION:Tenero-Contra\, Via alle Brere 10\, Tenero-Contra\, 6598\, Switzerland
CATEGORIES:Feld
ATTACH;FMTTYPE=image/jpeg:https://swisshockey.org/wp-content/uploads/2025/09/3T-U16.jpg
END:VEVENT
BEGIN:VEVENT
DTSTART;VALUE=DATE:20250816
DTEND;VALUE=DATE:20250818
DTSTAMP:20260422T133230
CREATED:20250619T074938Z
LAST-MODIFIED:20250619T082620Z
UID:4627-1755302400-1755475199@swisshockey.org
SUMMARY:Kick Off U16 & U18
DESCRIPTION:
URL:https://swisshockey.org/event/kick-off-u16-u18/
LOCATION:Deutsch-Schweiz\, Switzerland
CATEGORIES:Feld,Kick Off
ATTACH;FMTTYPE=image/jpeg:https://swisshockey.org/wp-content/uploads/2025/06/Kick-Off-U16.jpg
END:VEVENT
BEGIN:VEVENT
DTSTART;VALUE=DATE:20250727
DTEND;VALUE=DATE:20250803
DTSTAMP:20260422T133230
CREATED:20250619T074012Z
LAST-MODIFIED:20250619T082633Z
UID:4625-1753574400-1754179199@swisshockey.org
SUMMARY:EuroHockey Championship II Men
DESCRIPTION:
URL:https://swisshockey.org/event/eurohockey-championship-ii-men/
LOCATION:Lousada\, Portugal
CATEGORIES:Championship,Feld
ATTACH;FMTTYPE=image/jpeg:https://swisshockey.org/wp-content/uploads/2025/06/Championship-II-Men-Lousada.jpg
END:VEVENT
BEGIN:VEVENT
DTSTART;VALUE=DATE:20250727
DTEND;VALUE=DATE:20250803
DTSTAMP:20260422T133230
CREATED:20250619T073622Z
LAST-MODIFIED:20250619T082709Z
UID:4623-1753574400-1754179199@swisshockey.org
SUMMARY:EuroHockey Championship II Women
DESCRIPTION:
URL:https://swisshockey.org/event/eurohockey-championship-ii-women/
LOCATION:Gniezno\, Poland
CATEGORIES:Championship,Feld
ATTACH;FMTTYPE=image/jpeg:https://swisshockey.org/wp-content/uploads/2025/06/championship-II-women-gniezno.jpg
END:VEVENT
BEGIN:VEVENT
DTSTART;VALUE=DATE:20250726
DTEND;VALUE=DATE:20250728
DTSTAMP:20260422T133230
CREATED:20250619T094843Z
LAST-MODIFIED:20250619T095154Z
UID:4844-1753488000-1753660799@swisshockey.org
SUMMARY:Trainingsweekend U21 Men
DESCRIPTION:
URL:https://swisshockey.org/event/trainingsweekend-u21-men-2/
LOCATION:Luzern\, Utenbergstrasse 1\, Luzern\, 6006\, Switzerland
CATEGORIES:Feld,Trainingsweekend
ATTACH;FMTTYPE=image/jpeg:https://swisshockey.org/wp-content/uploads/2025/06/Trainingsweekend-U21-2.jpg
END:VEVENT
BEGIN:VEVENT
DTSTART;VALUE=DATE:20250722
DTEND;VALUE=DATE:20250726
DTSTAMP:20260422T133230
CREATED:20250619T072340Z
LAST-MODIFIED:20250619T082736Z
UID:4621-1753142400-1753487999@swisshockey.org
SUMMARY:Testseries Women: POL vs SUI
DESCRIPTION:
URL:https://swisshockey.org/event/testseries-women-pol-vs-sui/
LOCATION:Gniezno\, Poland
CATEGORIES:Feld,Testserie
ATTACH;FMTTYPE=image/jpeg:https://swisshockey.org/wp-content/uploads/2025/06/Testseries-POL-SUI.jpg
END:VEVENT
BEGIN:VEVENT
DTSTART;VALUE=DATE:20250718
DTEND;VALUE=DATE:20250721
DTSTAMP:20260422T133230
CREATED:20250619T071649Z
LAST-MODIFIED:20250619T071649Z
UID:4619-1752796800-1753055999@swisshockey.org
SUMMARY:Trainingsweekend Men
DESCRIPTION:
URL:https://swisshockey.org/event/trainingsweekend-men-2/
LOCATION:Luzern\, Utenbergstrasse 1\, Luzern\, 6006\, Switzerland
CATEGORIES:Trainingsweekend
ATTACH;FMTTYPE=image/jpeg:https://swisshockey.org/wp-content/uploads/2025/06/Trainingsweekend-Men-Luzern.jpg
END:VEVENT
BEGIN:VEVENT
DTSTART;VALUE=DATE:20250713
DTEND;VALUE=DATE:20250720
DTSTAMP:20260422T133230
CREATED:20250619T091917Z
LAST-MODIFIED:20250619T091917Z
UID:4615-1752364800-1752969599@swisshockey.org
SUMMARY:EuroHockey Championship II U18 Boys
DESCRIPTION:
URL:https://swisshockey.org/event/eurohockey-championship-ii-u18-boys/
LOCATION:Alanya\, Turkey
CATEGORIES:Championship
ATTACH;FMTTYPE=image/jpeg:https://swisshockey.org/wp-content/uploads/2025/06/Championship-U18-Boys-Alanya.jpg
END:VEVENT
BEGIN:VEVENT
DTSTART;VALUE=DATE:20250713
DTEND;VALUE=DATE:20250720
DTSTAMP:20260422T133230
CREATED:20250619T091216Z
LAST-MODIFIED:20250619T092028Z
UID:4617-1752364800-1752969599@swisshockey.org
SUMMARY:EuroHockey Championship II U18 Girls
DESCRIPTION:
URL:https://swisshockey.org/event/eurohockey-championship-ii-u18-girls/
LOCATION:Alanya\, Turkey
CATEGORIES:Championship
ATTACH;FMTTYPE=image/jpeg:https://swisshockey.org/wp-content/uploads/2025/06/Championship-U18-Girls-Alanya.jpg
END:VEVENT
END:VCALENDAR