BEGIN:VCALENDAR
VERSION:2.0
PRODID:-//Swiss Hockey - ECPv6.15.20//NONSGML v1.0//EN
CALSCALE:GREGORIAN
METHOD:PUBLISH
X-WR-CALNAME:Swiss Hockey
X-ORIGINAL-URL:https://swisshockey.org
X-WR-CALDESC:Évènements pour Swiss Hockey
REFRESH-INTERVAL;VALUE=DURATION:PT1H
X-Robots-Tag:noindex
X-PUBLISHED-TTL:PT1H
BEGIN:VTIMEZONE
TZID:Europe/Zurich
BEGIN:DAYLIGHT
TZOFFSETFROM:+0100
TZOFFSETTO:+0200
TZNAME:CEST
DTSTART:20240331T010000
END:DAYLIGHT
BEGIN:STANDARD
TZOFFSETFROM:+0200
TZOFFSETTO:+0100
TZNAME:CET
DTSTART:20241027T010000
END:STANDARD
BEGIN:DAYLIGHT
TZOFFSETFROM:+0100
TZOFFSETTO:+0200
TZNAME:CEST
DTSTART:20250330T010000
END:DAYLIGHT
BEGIN:STANDARD
TZOFFSETFROM:+0200
TZOFFSETTO:+0100
TZNAME:CET
DTSTART:20251026T010000
END:STANDARD
BEGIN:DAYLIGHT
TZOFFSETFROM:+0100
TZOFFSETTO:+0200
TZNAME:CEST
DTSTART:20260329T010000
END:DAYLIGHT
BEGIN:STANDARD
TZOFFSETFROM:+0200
TZOFFSETTO:+0100
TZNAME:CET
DTSTART:20261025T010000
END:STANDARD
END:VTIMEZONE
BEGIN:VEVENT
DTSTART;VALUE=DATE:20250426
DTEND;VALUE=DATE:20250427
DTSTAMP:20260421T180137
CREATED:20250411T114231Z
LAST-MODIFIED:20250411T115516Z
UID:3987-1745625600-1745711999@swisshockey.org
SUMMARY:26.04.2025 : Assemblée générale
DESCRIPTION:La 125e assemblée générale de Swiss Hockey aura lieu le 24 avril prochain à Lausanne. Les inscriptions pour la participation se terminent le 17 avril.
URL:https://swisshockey.org/fr/evenement/26-04-2025-assemblee-generale/
LOCATION:Lausanne\, Allée du Bornan\, Vidy Lausanne\, 1007\, Switzerland
ATTACH;FMTTYPE=image/jpeg:https://swisshockey.org/wp-content/uploads/2025/04/National-Swiss-Ladies-Team-scaled-e1743576293344.jpeg
END:VEVENT
BEGIN:VEVENT
DTSTART;VALUE=DATE:20250524
DTEND;VALUE=DATE:20250526
DTSTAMP:20260421T180137
CREATED:20250422T093245Z
LAST-MODIFIED:20250429T113517Z
UID:4051-1748044800-1748217599@swisshockey.org
SUMMARY:24.-25.05.2025 : U18 Final 4 Wettingen
DESCRIPTION:Le Final 4 U18 pour les garçons et les filles aura lieu le week-end du 24-25 mai. L’hôte de cette finale 4 est le RWW. Nous souhaitons à toutes les équipes et à tous les joueurs la meilleure des chances pour les finales.
URL:https://swisshockey.org/fr/evenement/24-25-06-2025-u18-finale-4-wettingen/
CATEGORIES:Final4,Sur le Terrain
ATTACH;FMTTYPE=image/jpeg:https://swisshockey.org/wp-content/uploads/2025/04/awa_landRWWturk-5-scaled.jpeg
END:VEVENT
BEGIN:VEVENT
DTSTART;VALUE=DATE:20250606
DTEND;VALUE=DATE:20250610
DTSTAMP:20260421T180137
CREATED:20250311T121750Z
LAST-MODIFIED:20250526T083720Z
UID:3498-1749168000-1749513599@swisshockey.org
SUMMARY:06.-09.06.2025 : Tournois de Pentecôte
DESCRIPTION:Swiss Hockey a un programme très chargé et passionnant pour le week-end de la Pentecôte. Toutes les équipes suisses de jeunes et l’équipe nationale féminine participeront à des tournois ou à des camps d’entraînement. \n\n\n\nTournoi de préparation\nPentecôte\nU14 Garçons Centre\nFrancfort\n\n\n\n\nTournoi de préparation\nPentecôte\nU14 Garçons Ouest\nParis\n\n\nTournoi de préparation\nPentecôte\nU14 Garçons Est\nCologne\n\n\nTournoi de préparation (cancelled)\nPentecôte\nU16 Garçons\nLucerne\n\n\nTournoi de préparation\nPentecôte\nU18 Garçons\nPologne\n\n\nTournoi de préparation\nPentecôte\nU14 Filles Est\nCologne\n\n\nTournoi de préparation\nPentecôte\nU14 Filles Ouest\nLyon\n\n\nTournoi de préparation(cancelled)\nPentecôte\nU16 Filles\nLucerne\n\n\nTournoi de préparation\nPentecôte\nU18 Filles\nCalais\n\n\nCamp d’entraînement Femmes\nPentecôte\nFemmes\nPays-Bas
URL:https://swisshockey.org/fr/evenement/06-09-06-2025-tournois-de-pentecote/
CATEGORIES:Sur le Terrain
ATTACH;FMTTYPE=image/png:https://swisshockey.org/wp-content/uploads/2024/07/U16_Boys-e1741695161412.png
END:VEVENT
BEGIN:VEVENT
DTSTART;VALUE=DATE:20250614
DTEND;VALUE=DATE:20250616
DTSTAMP:20260421T180137
CREATED:20250424T123131Z
LAST-MODIFIED:20250424T123131Z
UID:4121-1749859200-1750031999@swisshockey.org
SUMMARY:14.-15.06.2025 : U15 H/F\, U15 Filles Final 4 Genève
DESCRIPTION:La finale M/F mixte U15 et la finale 4 des filles U15 seront toutes deux organisées cette année par le SHC à Genève. Nous espérons que le club organisera un grand événement. Nous souhaitons bonne chance à toutes les équipes et à tous les joueurs.
URL:https://swisshockey.org/fr/evenement/14-15-06-2025-u15-h-f-u15-filles-final-4-geneve/
CATEGORIES:Final4,Sur le Terrain
ATTACH;FMTTYPE=image/jpeg:https://swisshockey.org/wp-content/uploads/2025/04/ZT7A8462-scaled-e1745497683917.jpg
END:VEVENT
BEGIN:VEVENT
DTSTART;VALUE=DATE:20250621
DTEND;VALUE=DATE:20250623
DTSTAMP:20260421T180137
CREATED:20250424T124443Z
LAST-MODIFIED:20250424T124443Z
UID:4131-1750464000-1750636799@swisshockey.org
SUMMARY:21.-22.06.2025 : NLA Hommes et Femmes Final 4
DESCRIPTION:La compétition NLA master et Woman’s Final 4 sera organisée par le LSC à Lucerne. Les demi-finales auront lieu le samedi 21 juin et la finale et la médaille de bronze le dimanche 22 juin. Les équipes n’ont pas encore été confirmées et la lutte pour les places finales est actuellement très serrée pour les équipes masculines et féminines. Nous souhaitons à toutes les équipes la meilleure des chances avant les finales.
URL:https://swisshockey.org/fr/evenement/21-22-06-2025-nla-hommes-et-femmes-final-4/
CATEGORIES:Final4,Sur le Terrain
ATTACH;FMTTYPE=image/jpeg:https://swisshockey.org/wp-content/uploads/2025/02/DK4I8438-scaled-e1740134515492.jpeg
END:VEVENT
BEGIN:VEVENT
DTSTART;VALUE=DATE:20250628
DTEND;VALUE=DATE:20250630
DTSTAMP:20260421T180137
CREATED:20250619T065451Z
LAST-MODIFIED:20250619T065451Z
UID:4655-1751068800-1751241599@swisshockey.org
SUMMARY:Week-end d'entraînement Men
DESCRIPTION:
URL:https://swisshockey.org/fr/evenement/week-end-dentrainement-men/
LOCATION:Olten\, Sportstrasse 81c\, Olten\, Solothurn\, 4600\, Switzerland
CATEGORIES:Week-end d'entraînement
ATTACH;FMTTYPE=image/jpeg:https://swisshockey.org/wp-content/uploads/2025/06/Trainingsweekend-Men.jpg
END:VEVENT
BEGIN:VEVENT
DTSTART;VALUE=DATE:20250628
DTEND;VALUE=DATE:20250630
DTSTAMP:20260421T180137
CREATED:20250521T123710Z
LAST-MODIFIED:20250521T123710Z
UID:4386-1751068800-1751241599@swisshockey.org
SUMMARY:28.-29.06.2025 : Week-end de sélection U14
DESCRIPTION:Le week-end de sélection des U14 aura lieu les 28 et 29 juin. Les sélections auront lieu dans trois régions.\nGenève accueillera les sélections U14 garçons et filles Ouest.\nLucerne accueillera les sélections U14 Garçons Centre et Est.\nOlten accueillera les U14 filles Est\nNous souhaitons à tous les joueurs le meilleur pour ces week-ends\, nous espérons qu’ils pourront apprendre et développer des connaissances et des compétences lors des sessions.
URL:https://swisshockey.org/fr/evenement/28-29-06-2025-week-end-de-selection-u14/
CATEGORIES:Sur le Terrain
ATTACH;FMTTYPE=image/jpeg:https://swisshockey.org/wp-content/uploads/2025/04/ZT7A9707-scaled-e1747830704408.jpg
END:VEVENT
BEGIN:VEVENT
DTSTART;VALUE=DATE:20250628
DTEND;VALUE=DATE:20250630
DTSTAMP:20260421T180137
CREATED:20250619T064644Z
LAST-MODIFIED:20250619T064644Z
UID:4638-1751068800-1751241599@swisshockey.org
SUMMARY:Week-end d'entraînement U18 Girls
DESCRIPTION:
URL:https://swisshockey.org/fr/evenement/week-end-dentrainement-u18-girls/
LOCATION:Genève\, Switzerland
CATEGORIES:Week-end d'entraînement
ATTACH;FMTTYPE=image/jpeg:https://swisshockey.org/wp-content/uploads/2025/06/U18-Testspiel.jpg
END:VEVENT
BEGIN:VEVENT
DTSTART;VALUE=DATE:20250628
DTEND;VALUE=DATE:20250630
DTSTAMP:20260421T180137
CREATED:20250619T092733Z
LAST-MODIFIED:20250619T092733Z
UID:4828-1751068800-1751241599@swisshockey.org
SUMMARY:Week-end d'entraînement pour les garçons U18
DESCRIPTION:
URL:https://swisshockey.org/fr/evenement/week-end-dentrainement-pour-les-garcons-u18/
LOCATION:Tägi Wettingen\, Tägerhardstrasse 122\, Wettingen\, Aargau\, 5430\, Switzerland
CATEGORIES:Sur le Terrain,Week-end d'entraînement
ATTACH;FMTTYPE=image/jpeg:https://swisshockey.org/wp-content/uploads/2025/06/Trainingsweekend-U18-Boys.jpg
END:VEVENT
BEGIN:VEVENT
DTSTART;VALUE=DATE:20250704
DTEND;VALUE=DATE:20250707
DTSTAMP:20260421T180137
CREATED:20250619T065054Z
LAST-MODIFIED:20250619T065054Z
UID:4647-1751587200-1751846399@swisshockey.org
SUMMARY:Testseries Men : ITA vs SUI
DESCRIPTION:
URL:https://swisshockey.org/fr/evenement/testseries-men-ita-vs-sui/
LOCATION:Bra\, Italy
CATEGORIES:Série de tests
ATTACH;FMTTYPE=image/jpeg:https://swisshockey.org/wp-content/uploads/2025/06/men-ITA-SUI.jpg
END:VEVENT
BEGIN:VEVENT
DTSTART;VALUE=DATE:20250704
DTEND;VALUE=DATE:20250707
DTSTAMP:20260421T180137
CREATED:20250619T065653Z
LAST-MODIFIED:20250619T065653Z
UID:4663-1751587200-1751846399@swisshockey.org
SUMMARY:Week-end d'entraînement Women
DESCRIPTION:
URL:https://swisshockey.org/fr/evenement/week-end-dentrainement-women/
LOCATION:Kunstrasen Utenberg\, Utenbergstrasse 1\, Luzern\, 6006\, Switzerland
CATEGORIES:Week-end d'entraînement
ATTACH;FMTTYPE=image/jpeg:https://swisshockey.org/wp-content/uploads/2025/06/Trainingsweekend-Women.jpg
END:VEVENT
BEGIN:VEVENT
DTSTART;VALUE=DATE:20250705
DTEND;VALUE=DATE:20250707
DTSTAMP:20260421T180137
CREATED:20250619T091431Z
LAST-MODIFIED:20250619T091431Z
UID:4805-1751673600-1751846399@swisshockey.org
SUMMARY:Week-end d'entraînement pour les filles U18
DESCRIPTION:
URL:https://swisshockey.org/fr/evenement/week-end-dentrainement-pour-les-filles-u18/
LOCATION:Stade de Bout-du-Monde\, Route de Vessy 12\, Genf\, 1206\, Switzerland
CATEGORIES:Sur le Terrain,Week-end d'entraînement
ATTACH;FMTTYPE=image/jpeg:https://swisshockey.org/wp-content/uploads/2025/06/Trainingsweekend-U18-Girls-Lausanne.jpg
END:VEVENT
BEGIN:VEVENT
DTSTART;VALUE=DATE:20250705
DTEND;VALUE=DATE:20250707
DTSTAMP:20260421T180137
CREATED:20250619T092320Z
LAST-MODIFIED:20250619T095248Z
UID:4821-1751673600-1751846399@swisshockey.org
SUMMARY:Week-end d'entraînement Boys U18 & U21 Men
DESCRIPTION:
URL:https://swisshockey.org/fr/evenement/week-end-dentrainement-boys-u18/
LOCATION:Tägi Wettingen\, Tägerhardstrasse 122\, Wettingen\, Aargau\, 5430\, Switzerland
CATEGORIES:Sur le Terrain,Week-end d'entraînement
ATTACH;FMTTYPE=image/jpeg:https://swisshockey.org/wp-content/uploads/2025/06/Trainingsweekend-U18-Boys.jpg
END:VEVENT
BEGIN:VEVENT
DTSTART;VALUE=DATE:20250711
DTEND;VALUE=DATE:20250714
DTSTAMP:20260421T180137
CREATED:20250619T070431Z
LAST-MODIFIED:20250619T070431Z
UID:4670-1752192000-1752451199@swisshockey.org
SUMMARY:Test Series Men : SUI vs AUT
DESCRIPTION:
URL:https://swisshockey.org/fr/evenement/test-series-men-sui-vs-aut/
LOCATION:Olten\, Sportstrasse 81c\, Olten\, Solothurn\, 4600\, Switzerland
CATEGORIES:Série de tests
ATTACH;FMTTYPE=image/jpeg:https://swisshockey.org/wp-content/uploads/2025/06/Testserie-AUT-SUI.jpg
END:VEVENT
BEGIN:VEVENT
DTSTART;VALUE=DATE:20250711
DTEND;VALUE=DATE:20250714
DTSTAMP:20260421T180137
CREATED:20250619T071057Z
LAST-MODIFIED:20250619T071057Z
UID:4677-1752192000-1752451199@swisshockey.org
SUMMARY:Week-end d'entraînement Women
DESCRIPTION:
URL:https://swisshockey.org/fr/evenement/week-end-dentrainement-women-2/
LOCATION:Olten\, Sportstrasse 81c\, Olten\, Solothurn\, 4600\, Switzerland
CATEGORIES:Week-end d'entraînement
ATTACH;FMTTYPE=image/jpeg:https://swisshockey.org/wp-content/uploads/2025/06/Trainingsweekend-Women-Olten.jpg
END:VEVENT
BEGIN:VEVENT
DTSTART;VALUE=DATE:20250711
DTEND;VALUE=DATE:20250714
DTSTAMP:20260421T180137
CREATED:20250619T094534Z
LAST-MODIFIED:20250619T095408Z
UID:4841-1752192000-1752451199@swisshockey.org
SUMMARY:Week-end d'entraînement U21 Men
DESCRIPTION:
URL:https://swisshockey.org/fr/evenement/week-end-dentrainement-u21-men/
LOCATION:Olten\, Sportstrasse 81c\, Olten\, Solothurn\, 4600\, Switzerland
CATEGORIES:Sur le Terrain,Week-end d'entraînement
ATTACH;FMTTYPE=image/jpeg:https://swisshockey.org/wp-content/uploads/2025/06/Trainingsweekend-U21.jpg
END:VEVENT
BEGIN:VEVENT
DTSTART;VALUE=DATE:20250713
DTEND;VALUE=DATE:20250720
DTSTAMP:20260421T180137
CREATED:20250619T091239Z
LAST-MODIFIED:20250619T091239Z
UID:4798-1752364800-1752969599@swisshockey.org
SUMMARY:Championnat d'EuroHockey II U18 filles
DESCRIPTION:
URL:https://swisshockey.org/fr/evenement/championnat-deurohockey-ii-u18-filles/
LOCATION:Alanya\, Turkey
CATEGORIES:Championship
ATTACH;FMTTYPE=image/jpeg:https://swisshockey.org/wp-content/uploads/2025/06/Championship-U18-Girls-Alanya.jpg
END:VEVENT
BEGIN:VEVENT
DTSTART;VALUE=DATE:20250713
DTEND;VALUE=DATE:20250720
DTSTAMP:20260421T180137
CREATED:20250619T091936Z
LAST-MODIFIED:20250619T091956Z
UID:4813-1752364800-1752969599@swisshockey.org
SUMMARY:Championnat d'EuroHockey II U18 Boys
DESCRIPTION:
URL:https://swisshockey.org/fr/evenement/championnat-deurohockey-ii-u18-boys/
LOCATION:Alanya\, Turkey
CATEGORIES:Championship
ATTACH;FMTTYPE=image/jpeg:https://swisshockey.org/wp-content/uploads/2025/06/Championship-U18-Boys-Alanya.jpg
END:VEVENT
BEGIN:VEVENT
DTSTART;VALUE=DATE:20250718
DTEND;VALUE=DATE:20250721
DTSTAMP:20260421T180137
CREATED:20250619T071716Z
LAST-MODIFIED:20250619T071716Z
UID:4684-1752796800-1753055999@swisshockey.org
SUMMARY:Week-end d'entraînement Men
DESCRIPTION:
URL:https://swisshockey.org/fr/evenement/week-end-dentrainement-men-2/
LOCATION:Kunstrasen Utenberg\, Utenbergstrasse 1\, Luzern\, 6006\, Switzerland
CATEGORIES:Week-end d'entraînement
ATTACH;FMTTYPE=image/jpeg:https://swisshockey.org/wp-content/uploads/2025/06/Trainingsweekend-Men-Luzern.jpg
END:VEVENT
BEGIN:VEVENT
DTSTART;VALUE=DATE:20250722
DTEND;VALUE=DATE:20250726
DTSTAMP:20260421T180137
CREATED:20250619T072406Z
LAST-MODIFIED:20250619T072406Z
UID:4692-1753142400-1753487999@swisshockey.org
SUMMARY:Testseries Women : POL vs SUI
DESCRIPTION:
URL:https://swisshockey.org/fr/evenement/testseries-women-pol-vs-sui/
LOCATION:Gniezno\, Poland
CATEGORIES:Série de tests
ATTACH;FMTTYPE=image/jpeg:https://swisshockey.org/wp-content/uploads/2025/06/Testseries-POL-SUI.jpg
END:VEVENT
BEGIN:VEVENT
DTSTART;VALUE=DATE:20250726
DTEND;VALUE=DATE:20250728
DTSTAMP:20260421T180137
CREATED:20250619T094940Z
LAST-MODIFIED:20250619T095134Z
UID:4851-1753488000-1753660799@swisshockey.org
SUMMARY:Week-end d'entraînement U21 Men
DESCRIPTION:
URL:https://swisshockey.org/fr/evenement/week-end-dentrainement-u21-men-2/
LOCATION:Kunstrasen Utenberg\, Utenbergstrasse 1\, Luzern\, 6006\, Switzerland
CATEGORIES:Sur le Terrain,Week-end d'entraînement
ATTACH;FMTTYPE=image/jpeg:https://swisshockey.org/wp-content/uploads/2025/06/Trainingsweekend-U21-2.jpg
END:VEVENT
BEGIN:VEVENT
DTSTART;VALUE=DATE:20250727
DTEND;VALUE=DATE:20250803
DTSTAMP:20260421T180137
CREATED:20250619T073640Z
LAST-MODIFIED:20250619T073640Z
UID:4700-1753574400-1754179199@swisshockey.org
SUMMARY:EuroHockey Championship II Femmes
DESCRIPTION:
URL:https://swisshockey.org/fr/evenement/eurohockey-championship-ii-femmes/
LOCATION:Gniezno\, Poland
CATEGORIES:Championship
ATTACH;FMTTYPE=image/jpeg:https://swisshockey.org/wp-content/uploads/2025/06/championship-II-women-gniezno.jpg
END:VEVENT
BEGIN:VEVENT
DTSTART;VALUE=DATE:20250727
DTEND;VALUE=DATE:20250803
DTSTAMP:20260421T180137
CREATED:20250619T074031Z
LAST-MODIFIED:20250619T074031Z
UID:4708-1753574400-1754179199@swisshockey.org
SUMMARY:EuroHockey Championship II Men
DESCRIPTION:
URL:https://swisshockey.org/fr/evenement/eurohockey-championship-ii-men/
LOCATION:Lousada\, Portugal
CATEGORIES:Championship
ATTACH;FMTTYPE=image/jpeg:https://swisshockey.org/wp-content/uploads/2025/06/Championship-II-Men-Lousada.jpg
END:VEVENT
BEGIN:VEVENT
DTSTART;VALUE=DATE:20250816
DTEND;VALUE=DATE:20250818
DTSTAMP:20260421T180137
CREATED:20250619T074946Z
LAST-MODIFIED:20250619T075521Z
UID:4718-1755302400-1755475199@swisshockey.org
SUMMARY:Coup d'envoi U16 & U18
DESCRIPTION:
URL:https://swisshockey.org/fr/evenement/coup-denvoi-u16-u18/
LOCATION:Deutsch-Schweiz\, Switzerland
CATEGORIES:Coup d'envoi
ATTACH;FMTTYPE=image/jpeg:https://swisshockey.org/wp-content/uploads/2025/06/Kick-Off-U16.jpg
END:VEVENT
BEGIN:VEVENT
DTSTART;VALUE=DATE:20250921
DTEND;VALUE=DATE:20250927
DTSTAMP:20260421T180137
CREATED:20250903T172423Z
LAST-MODIFIED:20250903T172423Z
UID:5372-1758412800-1758931199@swisshockey.org
SUMMARY:3T U16 Garçons & Filles
DESCRIPTION:
URL:https://swisshockey.org/fr/evenement/3t-u16-garcons-filles/
LOCATION:Tenero-Contra\, Via alle Brere 10\, Tenero-Contra\, 6598\, Switzerland
CATEGORIES:Sur le Terrain
ATTACH;FMTTYPE=image/jpeg:https://swisshockey.org/wp-content/uploads/2025/09/3T-U16.jpg
END:VEVENT
BEGIN:VEVENT
DTSTART;VALUE=DATE:20251017
DTEND;VALUE=DATE:20251019
DTSTAMP:20260421T180137
CREATED:20250903T173258Z
LAST-MODIFIED:20250903T173258Z
UID:5383-1760659200-1760831999@swisshockey.org
SUMMARY:Camp d'entraînement Women
DESCRIPTION:
URL:https://swisshockey.org/fr/evenement/camp-dentrainement-women/
CATEGORIES:Camp d'entraînement,Sur le Terrain
ATTACH;FMTTYPE=image/jpeg:https://swisshockey.org/wp-content/uploads/2025/09/Trainingscamp_Women.jpg
END:VEVENT
BEGIN:VEVENT
DTSTART;VALUE=DATE:20251030
DTEND;VALUE=DATE:20251103
DTSTAMP:20260421T180137
CREATED:20250903T174302Z
LAST-MODIFIED:20250903T174302Z
UID:5398-1761782400-1762127999@swisshockey.org
SUMMARY:Testseries U21 Men
DESCRIPTION:
URL:https://swisshockey.org/fr/evenement/testseries-u21-men/
LOCATION:Lucerne\, Utenbergstrasse 1\, Luzern\, 6006\, Switzerland
CATEGORIES:Série de tests,Sur le Terrain
ATTACH;FMTTYPE=image/jpeg:https://swisshockey.org/wp-content/uploads/2025/09/U21-Testseries-Spain.jpg
END:VEVENT
BEGIN:VEVENT
DTSTART;VALUE=DATE:20251110
DTEND;VALUE=DATE:20251115
DTSTAMP:20260421T180137
CREATED:20250903T174653Z
LAST-MODIFIED:20250903T174653Z
UID:5407-1762732800-1763164799@swisshockey.org
SUMMARY:Semaine d'entraînement U21 Men
DESCRIPTION:
URL:https://swisshockey.org/fr/evenement/semaine-dentrainement-u21-men/
LOCATION:Pays-Bas\, Netherlands
CATEGORIES:Sur le Terrain,Week-end d'entraînement
ATTACH;FMTTYPE=image/jpeg:https://swisshockey.org/wp-content/uploads/2025/09/U21-Trainingsweek-Niederlande.jpg
END:VEVENT
BEGIN:VEVENT
DTSTART;VALUE=DATE:20251121
DTEND;VALUE=DATE:20251124
DTSTAMP:20260421T180137
CREATED:20250903T175643Z
LAST-MODIFIED:20250903T175729Z
UID:5416-1763683200-1763942399@swisshockey.org
SUMMARY:Cour U21 Men
DESCRIPTION:
URL:https://swisshockey.org/fr/evenement/cour-u21-men/
LOCATION:Kunstrasen Utenberg\, Utenbergstrasse 1\, Luzern\, 6006\, Switzerland
CATEGORIES:Cour,Sur le Terrain
ATTACH;FMTTYPE=image/jpeg:https://swisshockey.org/wp-content/uploads/2025/09/U21-Lehrgang.jpg
END:VEVENT
BEGIN:VEVENT
DTSTART;VALUE=DATE:20251121
DTEND;VALUE=DATE:20251124
DTSTAMP:20260421T180137
CREATED:20251111T140754Z
LAST-MODIFIED:20251111T140754Z
UID:6037-1763683200-1763942399@swisshockey.org
SUMMARY:Coupe Messmer
DESCRIPTION:
URL:https://swisshockey.org/fr/evenement/coupe-messmer/
LOCATION:Kunstrasen Utenberg\, Utenbergstrasse 1\, Luzern\, 6006\, Switzerland
CATEGORIES:En Salle
ATTACH;FMTTYPE=image/jpeg:https://swisshockey.org/wp-content/uploads/2025/11/Men_Indoor.jpg
END:VEVENT
END:VCALENDAR